BEGIN:VCALENDAR
VERSION:2.0
PRODID:-//Date iCal v2.14-dev//NONSGML kigkonsult.se iCalcreator 2.16.6//
METHOD:PUBLISH
X-WR-CALNAME;VALUE=TEXT:Greater Baltimore Cultural Alliance
BEGIN:VTIMEZONE
TZID:America/New_York
BEGIN:STANDARD
DTSTART:20241103T020000
TZOFFSETFROM:-0400
TZOFFSETTO:-0500
TZNAME:EST
END:STANDARD
BEGIN:DAYLIGHT
DTSTART:20250309T020000
TZOFFSETFROM:-0500
TZOFFSETTO:-0400
TZNAME:EDT
END:DAYLIGHT
END:VTIMEZONE
BEGIN:VEVENT
UID:calendar.36043.field_fc_date.0@culturefly.org
DTSTAMP:20260420T150041Z
ATTACH;FMTTYPE=image/jpeg:https://culturefly.org/sites/default/files/event-
 image/28BD95AE-F8BE-44D4-BCFD-5D9F6F0131F6.jpeg
CATEGORIES:Performance,Activities,Nightlife,Other
CREATED:20240710T184005Z
DESCRIPTION:Hannah LIVE is hitting the festival circuit later this year! Bu
 t first,  Hannah Alden Jeffrey's hit solo show is hitting Mick O'Shea's I
 rish Pub. Come  see the show audiences all over Baltimore have called 'lou
 d!' Characters,  stand up, audience participation -- it's never the same
 , but it's always  super fun!\n\nDoors open at 7:30, show starts at 8ish
 . The show takes place in the pub's  back room. Seating is EXTREMELY limit
 ed, reserve tickets in advance to  guarantee your seats.
DTSTART;TZID=America/New_York:20240802T200000
DTEND;TZID=America/New_York:20240802T213000
LAST-MODIFIED:20240716T143705Z
LOCATION:Mick O’Shea’s Irish Pub, 328 N Charles Street, Baltimore, MD
SUMMARY:Hannah LIVE: A Hilarious One-Han Show!
URL:https://www.eventbrite.com/e/hannah-live-at-mick-osheas-irish-pub-ticke
 ts-932746328377?aff=ebdsoporgprofile
X-GBCA-NID:36043
END:VEVENT
END:VCALENDAR
