BEGIN:VCALENDAR
VERSION:2.0
PRODID:-//Date iCal v2.14-dev//NONSGML kigkonsult.se iCalcreator 2.16.6//
METHOD:PUBLISH
X-WR-CALNAME;VALUE=TEXT:Greater Baltimore Cultural Alliance
BEGIN:VTIMEZONE
TZID:America/New_York
BEGIN:STANDARD
DTSTART:20241103T020000
TZOFFSETFROM:-0400
TZOFFSETTO:-0500
TZNAME:EST
END:STANDARD
BEGIN:DAYLIGHT
DTSTART:20250309T020000
TZOFFSETFROM:-0500
TZOFFSETTO:-0400
TZNAME:EDT
END:DAYLIGHT
END:VTIMEZONE
BEGIN:VEVENT
UID:calendar.36040.field_fc_date.0@culturefly.org
DTSTAMP:20260425T144316Z
ATTACH;FMTTYPE=image/png:https://culturefly.org/sites/default/files/event-i
 mage/FC%20WRG%20and%20Yebba.png
CATEGORIES:Performance,Outdoors
CREATED:20240709T195904Z
DESCRIPTION:Baltimore City Recreation & Parks presents Fête Champêtre; a l
 ux garden  party on Baltimore's waterfront. Enjoy a live performance by *5
  time Grammy  award-winning jazz and R&B artist, Robert Glasper featuring
  Yebba*.\n\nThis luxurious garden party in the park will be a delightful o
 utdoor  experience infused with opulence and sophistication. It takes the 
 traditional  concept of a picnic and elevates it to a lavish affair.\n\nAt
 tendees can pick their experience via their ticket purchase:
DTSTART;TZID=America/New_York:20240727T170000
DTEND;TZID=America/New_York:20240727T210000
GEO:+39.254966;-76.622317
LAST-MODIFIED:20240716T143705Z
LOCATION:Middle Branch Park, 3301 Waterview Ave, Baltimore, MD
SUMMARY:Check out Robert Glasper & Yebba Performing Live at Fête Champêtre 
 - A  Luxury Garden Party
URL:bit.ly/fetechampetre2024
X-GBCA-NID:36040
END:VEVENT
END:VCALENDAR
