BEGIN:VCALENDAR
VERSION:2.0
PRODID:-//Date iCal v2.14-dev//NONSGML kigkonsult.se iCalcreator 2.16.6//
METHOD:PUBLISH
X-WR-CALNAME;VALUE=TEXT:Greater Baltimore Cultural Alliance
BEGIN:VTIMEZONE
TZID:America/New_York
BEGIN:STANDARD
DTSTART:20241103T020000
TZOFFSETFROM:-0400
TZOFFSETTO:-0500
TZNAME:EST
END:STANDARD
BEGIN:DAYLIGHT
DTSTART:20250309T020000
TZOFFSETFROM:-0500
TZOFFSETTO:-0400
TZNAME:EDT
END:DAYLIGHT
END:VTIMEZONE
BEGIN:VEVENT
UID:calendar.36028.field_fc_date.0@culturefly.org
DTSTAMP:20260420T084519Z
ATTACH;FMTTYPE=image/jpeg:https://culturefly.org/sites/default/files/event-
 image/Rapa_Smooth%20Sailing_6x12_600.jpg
CATEGORIES:Exhibition,Activities,Professional Development,Outdoors
CREATED:20240702T202702Z
DESCRIPTION:Our 11th Annual Summer Plein Air Show, featuring works by 37 P
 lein Air  Artists, is in full swing and on display in both Crystal Moll G
 allery and  Highlandtown Gallery. All showcased pieces were completed on l
 ocation, out in  the elements.\n\nArtists have been invited to paint in t
 he area that morning and turn in their  wet paintings at 3pm for a Wet Pai
 nt Sale out on the sidewalk.\n\n/Vlad Duchev/ will begin his painting demo
  just after 3pm\n\nJoin us for a fun afternoon in Highlandtown!
DTSTART;TZID=America/New_York:20240803T150000
DTEND;TZID=America/New_York:20240803T170000
LAST-MODIFIED:20240708T193721Z
LOCATION:Crystal Moll Gallery - 248 South Conkling, Gallery C, 248 South 
 Conkling Street, Baltimore, MD
SUMMARY:11th Annual Summer Plein Air Show: Artist Reception / Wet Paint Sal
 e /  Painting Demo
URL:https://www.crystalmoll.com/11th-annual-summer-plein-air-show
X-GBCA-NID:36028
END:VEVENT
END:VCALENDAR
