BEGIN:VCALENDAR
VERSION:2.0
PRODID:-//Date iCal v2.14-dev//NONSGML kigkonsult.se iCalcreator 2.16.6//
METHOD:PUBLISH
X-WR-CALNAME;VALUE=TEXT:Greater Baltimore Cultural Alliance
BEGIN:VTIMEZONE
TZID:America/New_York
BEGIN:STANDARD
DTSTART:20241103T020000
TZOFFSETFROM:-0400
TZOFFSETTO:-0500
TZNAME:EST
END:STANDARD
BEGIN:DAYLIGHT
DTSTART:20250309T020000
TZOFFSETFROM:-0500
TZOFFSETTO:-0400
TZNAME:EDT
END:DAYLIGHT
END:VTIMEZONE
BEGIN:VEVENT
UID:calendar.36020.field_fc_date.0@culturefly.org
DTSTAMP:20260425T120331Z
ATTACH;FMTTYPE=image/jpeg:https://culturefly.org/sites/default/files/event-
 image/SpeakTeasy%20Baltimore%20Debut%20Eventbrite%20Banner.jpg
CATEGORIES:Nightlife
CREATED:20240702T062933Z
DESCRIPTION:Indulge yourself in the retro-fabulous Green Room, where the m
 iscreants rule  the night and there’s no such thing as “too extra”. Dress 
 to express  your glorious self and treat yourself to a wild night of hedon
 istic delight  in the club’s most secret and exclusive revel, the SpeakTe
 asy.\n\nVIP Seating *limited*: $50 (includes guaranteed front seating, a 
  complimentary glass of champagne or nonalcoholic alternative, photos wit
 h the  cast, & a gift bag of decadent treats including free raffle ticket
 s)\n\nGeneral Admission: $25
DTSTART;TZID=America/New_York:20240705T200000
DTEND;TZID=America/New_York:20240705T230000
LAST-MODIFIED:20240708T193728Z
LOCATION:The Bluebird Cocktail Lounge, 3600 Hickory Avenue, Baltimore, M
 D
SUMMARY:The SpeakTeasy
URL:https://www.eventbrite.com/e/the-speakteasy-tickets-928290420637
X-GBCA-NID:36020
END:VEVENT
END:VCALENDAR
