BEGIN:VCALENDAR
VERSION:2.0
PRODID:-//Date iCal v2.14-dev//NONSGML kigkonsult.se iCalcreator 2.16.6//
METHOD:PUBLISH
X-WR-CALNAME;VALUE=TEXT:Greater Baltimore Cultural Alliance
BEGIN:VTIMEZONE
TZID:America/New_York
BEGIN:STANDARD
DTSTART:20241103T020000
TZOFFSETFROM:-0400
TZOFFSETTO:-0500
TZNAME:EST
END:STANDARD
BEGIN:DAYLIGHT
DTSTART:20250309T020000
TZOFFSETFROM:-0500
TZOFFSETTO:-0400
TZNAME:EDT
END:DAYLIGHT
END:VTIMEZONE
BEGIN:VEVENT
UID:calendar.35971.field_fc_date.0@culturefly.org
DTSTAMP:20260420T084418Z
ATTACH;FMTTYPE=image/jpeg:https://culturefly.org/sites/default/files/u4548/
 7-2-2024%20Sylvia%20MoMA.jpg
CATEGORIES:Lectures/ Workshops,History & Heritage
CREATED:20240620T191114Z
DESCRIPTION:ART SEMINAR GROUP ONLINE PROGRAM\n\nMoMA Collection: Interrelat
 ionship of Photography and Fine Arts in Modern Art\n\nSylvia Laudien-Meo,
  independent art historian
DTSTART;TZID=America/New_York:20240702T133000
DTEND;TZID=America/New_York:20240702T144500
LAST-MODIFIED:20251204T081256Z
LOCATION:Virtual Event!, This event takes place online., Participate from
  Anywhere you are!, MD
SUMMARY:ASG WEBINAR: Sylvia Laudien-Meo, MoMA Collection: Interrelationshi
 p of  Photography and Fine Arts in Modern Art
URL:https://artseminargroup.squarespace.com/events/webinar-sylvia-laudien-m
 eo-moma-collection-interrelationship-of-photography-and-fine-arts-in-moder
 n-art
X-GBCA-NID:35971
END:VEVENT
END:VCALENDAR
