BEGIN:VCALENDAR
VERSION:2.0
PRODID:-//Date iCal v2.14-dev//NONSGML kigkonsult.se iCalcreator 2.16.6//
METHOD:PUBLISH
X-WR-CALNAME;VALUE=TEXT:Greater Baltimore Cultural Alliance
BEGIN:VTIMEZONE
TZID:America/New_York
BEGIN:STANDARD
DTSTART:20241103T020000
TZOFFSETFROM:-0400
TZOFFSETTO:-0500
TZNAME:EST
END:STANDARD
BEGIN:DAYLIGHT
DTSTART:20250309T020000
TZOFFSETFROM:-0500
TZOFFSETTO:-0400
TZNAME:EDT
END:DAYLIGHT
END:VTIMEZONE
BEGIN:VEVENT
UID:calendar.35924.field_fc_date.0@culturefly.org
DTSTAMP:20260420T151720Z
ATTACH;FMTTYPE=image/jpeg:https://culturefly.org/sites/default/files/u138/F
 H_Watt_2021.227.jpg
CATEGORIES:Exhibition
CREATED:20240610T222459Z
DESCRIPTION:This presentation speaks to Native people’s dynamic and powerfu
 l  relationship with land, home, and sanctuary. While they have beliefs 
 and  practices as wide and vast as this continent, Native communities sha
 re a  recognition that humans exist as part of a larger ecosystem that mus
 t stay in  balance. As the pressures of colonization and contemporary life
  have  assaulted traditional lifeways, the works in this exhibition demon
 strate the  resilience and versatility with which Native artists maintain 
 their cultures,  community connections, and sense of home.
DTSTART;TZID=America/New_York:20240612T100000
DTEND;TZID=America/New_York:20240612T170000
EXDATE;TZID=America/New_York:20240619T100000
EXDATE;TZID=America/New_York:20240704T100000
EXDATE;TZID=America/New_York:20241128T100000
GEO:+39.325755;-76.61944
LAST-MODIFIED:20251204T081256Z
LOCATION:Baltimore Museum of Art, 10 Art Museum Drive, Baltimore, MD
RRULE:FREQ=WEEKLY;UNTIL=20241202T095959Z;INTERVAL=1;BYDAY=SU,WE,TH,FR,SA;WK
 ST=SU
SUMMARY:Finding Home
URL:https://artbma.org/exhibition/finding-home
X-GBCA-NID:35924
END:VEVENT
END:VCALENDAR
