BEGIN:VCALENDAR
VERSION:2.0
PRODID:-//Date iCal v2.14-dev//NONSGML kigkonsult.se iCalcreator 2.16.6//
METHOD:PUBLISH
X-WR-CALNAME;VALUE=TEXT:Greater Baltimore Cultural Alliance
BEGIN:VTIMEZONE
TZID:America/New_York
BEGIN:STANDARD
DTSTART:20251102T020000
TZOFFSETFROM:-0400
TZOFFSETTO:-0500
TZNAME:EST
END:STANDARD
BEGIN:DAYLIGHT
DTSTART:20250309T020000
TZOFFSETFROM:-0500
TZOFFSETTO:-0400
TZNAME:EDT
END:DAYLIGHT
END:VTIMEZONE
BEGIN:VEVENT
UID:calendar.35876.field_fc_date.0@culturefly.org
DTSTAMP:20260420T115450Z
ATTACH;FMTTYPE=image/jpeg:https://culturefly.org/sites/default/files/event-
 image/SalVulcano_BALT%2CMD_1200x628.jpg
CATEGORIES:Performance
CREATED:20240528T145403Z
DESCRIPTION:Staten Island native Sal Vulcano is best known for creating and
  starring in  truTV’s long-running hit “Impractical Jokers,” and for “The
  Misery  Index” on TBS. In addition to performing as part of The Tenderloi
 ns Comedy  Troupe to sold-out arenas, Sal founded the No Presh Network in
  2020, hosting  “Hey Babe!” and “Taste Buds” podcasts. See him LIVE at th
 e Lyric on  2/23/25!
DTSTART;TZID=America/New_York:20250223T190000
DTEND;TZID=America/New_York:20250223T220000
LAST-MODIFIED:20240530T151957Z
LOCATION:Lyric Baltimore, 140 W. Mt. Royal Ave., Baltimore, MD
SUMMARY:Sal Vulcano 'Everything's Fine Tour'
URL:https://www.lyricbaltimore.com/events/detail/sal-vulcano
X-GBCA-NID:35876
END:VEVENT
END:VCALENDAR
