BEGIN:VCALENDAR
VERSION:2.0
PRODID:-//Date iCal v2.14-dev//NONSGML kigkonsult.se iCalcreator 2.16.6//
METHOD:PUBLISH
X-WR-CALNAME;VALUE=TEXT:Greater Baltimore Cultural Alliance
BEGIN:VTIMEZONE
TZID:America/New_York
BEGIN:STANDARD
DTSTART:20251102T020000
TZOFFSETFROM:-0400
TZOFFSETTO:-0500
TZNAME:EST
END:STANDARD
BEGIN:DAYLIGHT
DTSTART:20250309T020000
TZOFFSETFROM:-0500
TZOFFSETTO:-0400
TZNAME:EDT
END:DAYLIGHT
END:VTIMEZONE
BEGIN:VEVENT
UID:calendar.35863.field_fc_date.0@culturefly.org
DTSTAMP:20260421T213458Z
ATTACH;FMTTYPE=image/png:https://culturefly.org/sites/default/files/event-i
 mage/MLK%20Logo%20Gold_0.png
CATEGORIES:Activities,History & Heritage,Outdoors
CREATED:20240524T174240Z
DESCRIPTION:*/The MLK Grande Parade-2025 will be held on January 20, 2025 
 in Midtown  Originating on San jacinto Street & Elgin Street beginning @ 1
 0A (CST). The  parade's theme is 'Unity Through Diversity' featuring cultu
 rally diverse  performance groups from across the nation. Watch live on th
 e CW or for more  information visit us @ www.mlkgrandeparade.org [1]/*\n\n
 \n[1] http://www.mlkgrandeparade.org
DTSTART;TZID=America/New_York:20250120T100000
DTEND;TZID=America/New_York:20250120T120000
GEO:+29.737412;-95.376545
LAST-MODIFIED:20240530T152006Z
LOCATION:Midtown Houston, San Jacinto Street, 1300 Holman Street, Housto
 n, TX
SUMMARY:31st Annual MLK Grande Parade
URL:http://www.mlkgrandeparade.org
X-GBCA-NID:35863
END:VEVENT
END:VCALENDAR
