BEGIN:VCALENDAR
VERSION:2.0
PRODID:-//Date iCal v2.14-dev//NONSGML kigkonsult.se iCalcreator 2.16.6//
METHOD:PUBLISH
X-WR-CALNAME;VALUE=TEXT:Greater Baltimore Cultural Alliance
BEGIN:VTIMEZONE
TZID:America/New_York
BEGIN:STANDARD
DTSTART:20241103T020000
TZOFFSETFROM:-0400
TZOFFSETTO:-0500
TZNAME:EST
END:STANDARD
BEGIN:DAYLIGHT
DTSTART:20250309T020000
TZOFFSETFROM:-0500
TZOFFSETTO:-0400
TZNAME:EDT
END:DAYLIGHT
END:VTIMEZONE
BEGIN:VEVENT
UID:calendar.35856.field_fc_date.0@culturefly.org
DTSTAMP:20260424T021250Z
ATTACH;FMTTYPE=image/jpeg:https://culturefly.org/sites/default/files/event-
 image/Solstice%20Celebration.%20Georgia%20Beatty.%20JPEG.jpg
CATEGORIES:Performance
CREATED:20240522T205244Z
DESCRIPTION:Solstice Celebration with Valeska Populoh, Melissa Hyatt Foss\
 , and Georgia  Beatty!\n\nSat, June 22nd Doors at 6\n\nPlease join us for
  an evening of crankie performances, music, and crafts.\n\nSee THE BOOK 
 OF STARS by Georgia Beatty, which combines fiddle tunes and an  acetate-c
 rankie on analogue projector. It tells the story of the cosmic sun  goddes
 s who is reborn every 300 years to be sent to Earth and heal the planet  f
 rom oppressive powers.\n\nExperience Valeska Populoh's 'Ecological Fortune
  Cards' and overhead  projector crankie.
DTSTART;TZID=America/New_York:20240622T180000
DTEND;TZID=America/New_York:20240622T210000
GEO:+39.294717;-76.619737
LAST-MODIFIED:20240530T152013Z
LOCATION:Current Space, 421 N. Howard Street, Baltimore, MD
SUMMARY:SOLSTICE CELEBRATION: with Valeska Populoh, Melissa Foss and Georg
 ia Beatty
URL:https://withfriends.co/event/20114984/solstice_celebration_with_valeska
 _populoh_melissa_foss_and_georgia_beatty#
X-GBCA-NID:35856
END:VEVENT
END:VCALENDAR
