BEGIN:VCALENDAR
VERSION:2.0
PRODID:-//Date iCal v2.14-dev//NONSGML kigkonsult.se iCalcreator 2.16.6//
METHOD:PUBLISH
X-WR-CALNAME;VALUE=TEXT:Greater Baltimore Cultural Alliance
BEGIN:VTIMEZONE
TZID:America/New_York
BEGIN:STANDARD
DTSTART:20241103T020000
TZOFFSETFROM:-0400
TZOFFSETTO:-0500
TZNAME:EST
END:STANDARD
BEGIN:DAYLIGHT
DTSTART:20250309T020000
TZOFFSETFROM:-0500
TZOFFSETTO:-0400
TZNAME:EDT
END:DAYLIGHT
END:VTIMEZONE
BEGIN:VEVENT
UID:calendar.35850.field_fc_date.0@culturefly.org
DTSTAMP:20260421T221825Z
ATTACH;FMTTYPE=image/jpeg:https://culturefly.org/sites/default/files/event-
 image/AmericanSalute_BSO2324_SummerFest_350x350.jpg
CATEGORIES:Performance
CREATED:20240522T162940Z
DESCRIPTION:This show bursts with the vibrant energy of Gould's American Sa
 lute and the  jubilant beats and rhythms of star-spangled delights. The ev
 ening culminates  with the grand finale of Tchaikovsky's 1812 Overture, i
 gniting cannons and  bells, all while capturing the essence of patriotic 
 celebrations.\n\nNicholas Hersh, conductor Wordsmith, spoken word artist
DTSTART;TZID=America/New_York:20240706T193000
DTEND;TZID=America/New_York:20240706T223000
LAST-MODIFIED:20240522T184009Z
LOCATION:Joseph Meyerhoff Symphony Hall, 1212 Cathedral Street, Baltimore
 , MD
SUMMARY:BSO Music Presents: American Salute
URL:https://my.bsomusic.org/19216/19225
X-GBCA-NID:35850
END:VEVENT
END:VCALENDAR
