BEGIN:VCALENDAR
VERSION:2.0
PRODID:-//Date iCal v2.14-dev//NONSGML kigkonsult.se iCalcreator 2.16.6//
METHOD:PUBLISH
X-WR-CALNAME;VALUE=TEXT:Greater Baltimore Cultural Alliance
BEGIN:VTIMEZONE
TZID:America/New_York
BEGIN:STANDARD
DTSTART:20251102T020000
TZOFFSETFROM:-0400
TZOFFSETTO:-0500
TZNAME:EST
END:STANDARD
BEGIN:DAYLIGHT
DTSTART:20250309T020000
TZOFFSETFROM:-0500
TZOFFSETTO:-0400
TZNAME:EDT
END:DAYLIGHT
END:VTIMEZONE
BEGIN:VEVENT
UID:calendar.35829.field_fc_date.0@culturefly.org
DTSTAMP:20260420T101536Z
ATTACH;FMTTYPE=image/jpeg:https://culturefly.org/sites/default/files/event-
 image/Swan%20Lake%2C%201080%20x%201080%20-data_.jpg
CATEGORIES:Performance
CREATED:20240517T182428Z
DESCRIPTION:Experience the world’s most in-demand ballet, Swan Lake, pres
 ented by  Classical Arts Entertainment and performed by the State Ballet T
 heatre of  Ukraine.
DTSTART;TZID=America/New_York:20250219T190000
DTEND;TZID=America/New_York:20250219T220000
LAST-MODIFIED:20241028T165505Z
LOCATION:Lyric Baltimore, 140 W. Mt. Royal Ave., Baltimore, MD
SUMMARY:Swan Lake
URL:https://www.lyricbaltimore.com/events/detail/state-ballet-theatre-of-uk
 raine-swan-lake
X-GBCA-NID:35829
END:VEVENT
END:VCALENDAR
