BEGIN:VCALENDAR
VERSION:2.0
PRODID:-//Date iCal v2.14-dev//NONSGML kigkonsult.se iCalcreator 2.16.6//
METHOD:PUBLISH
X-WR-CALNAME;VALUE=TEXT:Greater Baltimore Cultural Alliance
BEGIN:VTIMEZONE
TZID:America/New_York
BEGIN:STANDARD
DTSTART:20251102T020000
TZOFFSETFROM:-0400
TZOFFSETTO:-0500
TZNAME:EST
END:STANDARD
BEGIN:DAYLIGHT
DTSTART:20250309T020000
TZOFFSETFROM:-0500
TZOFFSETTO:-0400
RDATE:20260308T020000
TZNAME:EDT
END:DAYLIGHT
END:VTIMEZONE
BEGIN:VEVENT
UID:calendar.35806.field_fc_date.0@culturefly.org
DTSTAMP:20260420T180946Z
ATTACH;FMTTYPE=image/jpeg:https://culturefly.org/sites/default/files/event-
 image/Ivalas%20Quartet%20EPK%202023-%20SQUARE2.jpg
CATEGORIES:Performance
CREATED:20240510T181523Z
DESCRIPTION:Charismatic rising stars the Ivalas Quartet—currently the Gradu
 ate Resident  String Quartet at Juilliard—present a program traversing the
  musical  heavens. Golijov took inspiration for his poignant Tenebrae from
  a  planetarium visit with his son. Sparked by a lecture on physics, Albe
 rga’s  rich and spellbinding quartet explores the ideas of swirling partic
 les and  stargazing from outer space. Finally, the group infuses one of B
 eethoven’s  final works with “tremendous heart and beauty” (/The Strad/).
 \n\nPROGRAM:\n\nOsvaldo Golijov - Tenebrae
DTSTART;TZID=America/New_York:20250329T150000
DTEND;TZID=America/New_York:20250329T163000
GEO:+39.327443;-76.620777
LAST-MODIFIED:20240513T184820Z
LOCATION:Shriver Hall Auditorium, Shriver Hall, 3400 North Charles Street
 , Baltimore, MD
SUMMARY:SHCS Presents: Ivalas Quartet
URL:https://www.shriverconcerts.org/ivalas#event_overview
X-GBCA-NID:35806
END:VEVENT
END:VCALENDAR
