BEGIN:VCALENDAR
VERSION:2.0
PRODID:-//Date iCal v2.14-dev//NONSGML kigkonsult.se iCalcreator 2.16.6//
METHOD:PUBLISH
X-WR-CALNAME;VALUE=TEXT:Greater Baltimore Cultural Alliance
BEGIN:VTIMEZONE
TZID:America/New_York
BEGIN:STANDARD
DTSTART:20241103T020000
TZOFFSETFROM:-0400
TZOFFSETTO:-0500
TZNAME:EST
END:STANDARD
BEGIN:DAYLIGHT
DTSTART:20250309T020000
TZOFFSETFROM:-0500
TZOFFSETTO:-0400
TZNAME:EDT
END:DAYLIGHT
END:VTIMEZONE
BEGIN:VEVENT
UID:calendar.35794.field_fc_date.0@culturefly.org
DTSTAMP:20260421T182003Z
ATTACH;FMTTYPE=image/png:https://culturefly.org/sites/default/files/event-i
 mage/May%20PYP%201080x1080.png
CATEGORIES:Performance,Lectures/ Workshops,Nightlife
CREATED:20240510T161329Z
DESCRIPTION:Join us for another amazing evening of literary and musical fus
 ion at 'Polish  Ya Piece,' where words meet rhythm, and creativity knows
  no bounds! Each  month, we feature incredible writers in an intimate int
 erview hosted by  DevRock, a hip-hop and spoken-word artist with over 15 
 years of experience  shaping Baltimore's musical landscape.\n\nMay Special
  Guest: E the Poet-Emcee\n\nE The Poet Emcee is a multifaceted artist know
 n for his captivating spoken  word performances, insightful conversations
  on The Art Of Conversation  podcast, and creative direction at Griot Sou
 l Records.
DTSTART;TZID=America/New_York:20240523T190000
DTEND;TZID=America/New_York:20240523T220000
LAST-MODIFIED:20240510T180938Z
LOCATION:MRI Studios, 20 N. Howard St., Baltimore, MD
SUMMARY:Polish Ya PIece
URL:https://bit.ly/3UibiRz
X-GBCA-NID:35794
END:VEVENT
END:VCALENDAR
