BEGIN:VCALENDAR
VERSION:2.0
PRODID:-//Date iCal v2.14-dev//NONSGML kigkonsult.se iCalcreator 2.16.6//
METHOD:PUBLISH
X-WR-CALNAME;VALUE=TEXT:Greater Baltimore Cultural Alliance
BEGIN:VTIMEZONE
TZID:America/New_York
BEGIN:STANDARD
DTSTART:20241103T020000
TZOFFSETFROM:-0400
TZOFFSETTO:-0500
TZNAME:EST
END:STANDARD
BEGIN:DAYLIGHT
DTSTART:20250309T020000
TZOFFSETFROM:-0500
TZOFFSETTO:-0400
TZNAME:EDT
END:DAYLIGHT
END:VTIMEZONE
BEGIN:VEVENT
UID:calendar.35633.field_fc_date.0@culturefly.org
DTSTAMP:20260420T214435Z
ATTACH;FMTTYPE=image/jpeg:https://culturefly.org/sites/default/files/event-
 image/WM%20Logo%202.jpeg
CATEGORIES:Other
CREATED:20240409T194708Z
DESCRIPTION:World Market Grand Opening at the AVENUE White Marsh\n\nSaturda
 y , May 11th from 10am-8pm\n\nSunday , May 12th from 11am-6pm\n\nJoin us
  in store for giveaways , food and drinks samples, and special  savings 
 all weekend long!\n\nWorld Market\n\n8125 Honeygo Blvd, Baltimore, MD 21
 236\n\n@WorldMarket
DTSTART;TZID=America/New_York:20240511T100000
DTEND;TZID=America/New_York:20240511T200000
LAST-MODIFIED:20240410T134236Z
LOCATION:World Market , 8125 Honeygo Blvd, Baltimore, MD 21236, Baltimo
 re, MD
SUMMARY:World Market White Marsh Grand Opening
URL:https://www.worldmarket.com/
X-GBCA-NID:35633
END:VEVENT
BEGIN:VEVENT
UID:calendar.35633.field_fc_date.0@culturefly.org
DTSTAMP:20260420T214435Z
ATTACH;FMTTYPE=image/jpeg:https://culturefly.org/sites/default/files/event-
 image/WM%20Logo%202.jpeg
CATEGORIES:Other
CREATED:20240409T194708Z
DESCRIPTION:World Market Grand Opening at the AVENUE White Marsh\n\nSaturda
 y , May 11th from 10am-8pm\n\nSunday , May 12th from 11am-6pm\n\nJoin us
  in store for giveaways , food and drinks samples, and special  savings 
 all weekend long!\n\nWorld Market\n\n8125 Honeygo Blvd, Baltimore, MD 21
 236\n\n@WorldMarket
DTSTART;TZID=America/New_York:20240512T110000
DTEND;TZID=America/New_York:20240512T180000
LAST-MODIFIED:20240410T134236Z
LOCATION:World Market , 8125 Honeygo Blvd, Baltimore, MD 21236, Baltimo
 re, MD
SUMMARY:World Market White Marsh Grand Opening
URL:https://www.worldmarket.com/
X-GBCA-NID:35633
END:VEVENT
END:VCALENDAR
