BEGIN:VCALENDAR
VERSION:2.0
PRODID:-//Date iCal v2.14-dev//NONSGML kigkonsult.se iCalcreator 2.16.6//
METHOD:PUBLISH
X-WR-CALNAME;VALUE=TEXT:Greater Baltimore Cultural Alliance
BEGIN:VTIMEZONE
TZID:America/New_York
BEGIN:STANDARD
DTSTART:20241103T020000
TZOFFSETFROM:-0400
TZOFFSETTO:-0500
TZNAME:EST
END:STANDARD
BEGIN:DAYLIGHT
DTSTART:20240310T020000
TZOFFSETFROM:-0500
TZOFFSETTO:-0400
RDATE:20250309T020000
TZNAME:EDT
END:DAYLIGHT
END:VTIMEZONE
BEGIN:VEVENT
UID:calendar.35470.field_fc_date.0@culturefly.org
DTSTAMP:20260419T162129Z
ATTACH;FMTTYPE=image/jpeg:https://culturefly.org/sites/default/files/event-
 image/Otherworld.jpeg
CATEGORIES:Performance,Nightlife
CREATED:20240312T222602Z
DESCRIPTION:An Die Musik Live hosts the album release concert of “Breathing
  Room”,  Otherworld’s third album, in the band’s first live performance 
 since the  pandemic! This long-awaited return to the stage features eight 
 all-new  compositions by the band members. The two sets will also include 
 audience  favorites from the group's other award-winning albums. We look f
 orward to  reuniting with our loyal fans and to making new friends, as we
 ll!\n\nLivestream passes and student tickets available!
DTSTART;TZID=America/New_York:20240329T200000
DTEND;TZID=America/New_York:20240329T220000
LAST-MODIFIED:20240313T170834Z
LOCATION:An Die Musik Live, 409 North Charles Street Second Floor, Baltim
 ore, MD
SUMMARY:Otherworld Album Release Show
URL:https://www.instantseats.com/?fuseaction=home.artist&VenueID=321&artist
 id=15058
X-GBCA-NID:35470
END:VEVENT
END:VCALENDAR
