BEGIN:VCALENDAR
VERSION:2.0
PRODID:-//Date iCal v2.14-dev//NONSGML kigkonsult.se iCalcreator 2.16.6//
METHOD:PUBLISH
X-WR-CALNAME;VALUE=TEXT:Greater Baltimore Cultural Alliance
BEGIN:VTIMEZONE
TZID:America/New_York
BEGIN:STANDARD
DTSTART:20241103T020000
TZOFFSETFROM:-0400
TZOFFSETTO:-0500
TZNAME:EST
END:STANDARD
BEGIN:DAYLIGHT
DTSTART:20250309T020000
TZOFFSETFROM:-0500
TZOFFSETTO:-0400
TZNAME:EDT
END:DAYLIGHT
END:VTIMEZONE
BEGIN:VEVENT
UID:calendar.35385.field_fc_date.0@culturefly.org
DTSTAMP:20260420T132709Z
ATTACH;FMTTYPE=image/png:https://culturefly.org/sites/default/files/Screens
 hot%202024-03-02%20at%201.34.16%20PM.png
CATEGORIES:Performance,Activities,Outdoors
CREATED:20240302T183719Z
DESCRIPTION:Artscape is turning 40! Join us for this cherished Baltimore ar
 ts festival, a  gathering that unites art enthusiasts, families, and to
 urists in a  celebration of creativity, culture, and performance. At Art
 scape, we take  pride in presenting a rich tapestry of artists and makers
 , live concerts,  visual arts experiences, performing arts, fashion de
 signers, kid-friendly  activities, film screenings, experimental music\
 , comedy, literary arts  programming, and delectable culinary offerings.
DTSTART;TZID=America/New_York:20240802T120000
DTEND;TZID=America/New_York:20240804T230000
GEO:+39.305603;-76.618431
LAST-MODIFIED:20251231T001256Z
LOCATION:Artscape, 1200 Block of Mount Royal Ave, Baltimore, MD
SUMMARY:Artscape
URL:https://www.artscape.org/
X-GBCA-NID:35385
END:VEVENT
END:VCALENDAR
