BEGIN:VCALENDAR
VERSION:2.0
PRODID:-//Date iCal v2.14-dev//NONSGML kigkonsult.se iCalcreator 2.16.6//
METHOD:PUBLISH
X-WR-CALNAME;VALUE=TEXT:Greater Baltimore Cultural Alliance
BEGIN:VTIMEZONE
TZID:America/New_York
BEGIN:STANDARD
DTSTART:20241103T020000
TZOFFSETFROM:-0400
TZOFFSETTO:-0500
TZNAME:EST
END:STANDARD
BEGIN:DAYLIGHT
DTSTART:20240310T020000
TZOFFSETFROM:-0500
TZOFFSETTO:-0400
TZNAME:EDT
END:DAYLIGHT
END:VTIMEZONE
BEGIN:VEVENT
UID:calendar.35384.field_fc_date.0@culturefly.org
DTSTAMP:20260420T101339Z
ATTACH;FMTTYPE=image/png:https://culturefly.org/sites/default/files/Screens
 hot%202024-03-02%20at%201.29.47%20PM.png
CATEGORIES:Performance,Activities
CREATED:20240302T183138Z
DESCRIPTION:This and every Wednesday The Art of Comedy Comedy Open Mic happ
 ens in our  West Bay Gallery! Join Comedian Ivan Martin Dark Mark Rules an
 d Alejandro  Labroda along with some of Baltimore’s funniest comedians for
  an evening of  laughs! If you’re feeling up to the task, sign up and tel
 l a few jokes  yourself! It’s free to attend and always a good time. Sign 
 up starts at 8,  show starts at 9.
DTSTART;TZID=America/New_York:20240306T210000
DTEND;TZID=America/New_York:20240306T230000
GEO:+39.311296;-76.618828
LAST-MODIFIED:20240302T183138Z
LOCATION:Motorhouse, 120 W. North Avenue, Baltimore, MD
RRULE:FREQ=WEEKLY;UNTIL=20241219T095959Z;INTERVAL=1;BYDAY=WE;WKST=SU
SUMMARY:The Art of Comedy Comedy Open Mic
URL:https://www.motorhousebaltimore.com/recurring-events/the-art-of-comedy
X-GBCA-NID:35384
END:VEVENT
END:VCALENDAR
