BEGIN:VCALENDAR
VERSION:2.0
PRODID:-//Date iCal v2.14-dev//NONSGML kigkonsult.se iCalcreator 2.16.6//
METHOD:PUBLISH
X-WR-CALNAME;VALUE=TEXT:Greater Baltimore Cultural Alliance
BEGIN:VTIMEZONE
TZID:America/New_York
BEGIN:STANDARD
DTSTART:20241103T020000
TZOFFSETFROM:-0400
TZOFFSETTO:-0500
TZNAME:EST
END:STANDARD
BEGIN:DAYLIGHT
DTSTART:20240310T020000
TZOFFSETFROM:-0500
TZOFFSETTO:-0400
TZNAME:EDT
END:DAYLIGHT
END:VTIMEZONE
BEGIN:VEVENT
UID:calendar.35327.field_fc_date.0@culturefly.org
DTSTAMP:20260420T102135Z
ATTACH;FMTTYPE=image/jpeg:https://culturefly.org/sites/default/files/event-
 image/4_APR-HDR.jpg
CATEGORIES:Exhibition,Performance,Activities,Nightlife,Outdoors
CREATED:20240227T165705Z
DESCRIPTION:Join us in Highlandtown on the first Friday each month from 5-9
 pm for the  Highlandtown Art Walk!
DTSTART;TZID=America/New_York:20240301T170000
DTEND;TZID=America/New_York:20240301T210000
GEO:+39.28635;-76.56921
LAST-MODIFIED:20240302T174923Z
LOCATION:ha! Highlandtown Arts & Entertaiment District, 3323 Eastern Ave.\
 , Suite 200, Baltimore, MD
RRULE:FREQ=MONTHLY;UNTIL=20241208T095959Z;INTERVAL=1;BYDAY=+1FR;BYMONTH=2,3
 ,4,5,6,8,9,10,11,12;WKST=SU
SUMMARY:Highlandtown First Friday Art Walk
URL:https://www.ihearthighlandtown.com/2024/01/26/first-friday-art-walks-20
 24/
X-GBCA-NID:35327
END:VEVENT
END:VCALENDAR
