BEGIN:VCALENDAR
VERSION:2.0
PRODID:-//Date iCal v2.14-dev//NONSGML kigkonsult.se iCalcreator 2.16.6//
METHOD:PUBLISH
X-WR-CALNAME;VALUE=TEXT:Greater Baltimore Cultural Alliance
BEGIN:VTIMEZONE
TZID:America/New_York
BEGIN:STANDARD
DTSTART:20241103T020000
TZOFFSETFROM:-0400
TZOFFSETTO:-0500
TZNAME:EST
END:STANDARD
BEGIN:DAYLIGHT
DTSTART:20240310T020000
TZOFFSETFROM:-0500
TZOFFSETTO:-0400
RDATE:20250309T020000
TZNAME:EDT
END:DAYLIGHT
END:VTIMEZONE
BEGIN:VEVENT
UID:calendar.35238.field_fc_date.0@culturefly.org
DTSTAMP:20260419T131011Z
ATTACH;FMTTYPE=image/jpeg:https://culturefly.org/sites/default/files/event-
 image/Pink%20International%20Women%27s%20Day%20Instagram%20Post%20%281%29.
 jpg
CATEGORIES:Lectures/ Workshops,Activities,History & Heritage
CREATED:20240219T150300Z
DESCRIPTION:McDaniel’s Office of Diversity, Equity, and Inclusion hosts a
 n educational  celebration in honor of International Women’s Day. Call 410
 -857-2459 or  email odei@mcdaniel.edu [1] for more information.\n\n\n[1] m
 ailto:odei@mcdaniel.edu
DTSTART;TZID=America/New_York:20240308T113000
DTEND;TZID=America/New_York:20240308T130000
LAST-MODIFIED:20240220T161907Z
LOCATION:Office of Diversity, Equity, and Inclusion, Roj Student Center\
 , 2 College Hill, Westminster, MD
SUMMARY:International Women's Day
URL:https://www.mcdaniel.edu/about-us/event-calendars
X-GBCA-NID:35238
END:VEVENT
END:VCALENDAR
