BEGIN:VCALENDAR
VERSION:2.0
PRODID:-//Date iCal v2.14-dev//NONSGML kigkonsult.se iCalcreator 2.16.6//
METHOD:PUBLISH
X-WR-CALNAME;VALUE=TEXT:Greater Baltimore Cultural Alliance
BEGIN:VTIMEZONE
TZID:America/New_York
BEGIN:STANDARD
DTSTART:20241103T020000
TZOFFSETFROM:-0400
TZOFFSETTO:-0500
TZNAME:EST
END:STANDARD
BEGIN:DAYLIGHT
DTSTART:20240310T020000
TZOFFSETFROM:-0500
TZOFFSETTO:-0400
TZNAME:EDT
END:DAYLIGHT
END:VTIMEZONE
BEGIN:VEVENT
UID:calendar.34802.field_fc_date.0@culturefly.org
DTSTAMP:20260420T132538Z
ATTACH;FMTTYPE=image/jpeg:https://culturefly.org/sites/default/files/event-
 image/Block%20Party%202024%20IG.jpg
CATEGORIES:Performance,Activities,Nightlife
CREATED:20231229T161830Z
DESCRIPTION:Get ready for a true variety comedy show that is sure to get yo
 u laughing,  clapping, out of your seat, and possibly on stage yourself
 ! Blue  Cavell-Allette, Desi Rawlerson, and Tashika Campbell are your ho
 sts and  producers, and your party MCs - there will be music, jokes, co
 medy games,  interviews, sitcom tropes, audience participation, and no
 n-stop laughs. They  also bring their friends along for some surprise gues
 t appearances!
DTSTART;TZID=America/New_York:20240112T193000
DTEND;TZID=America/New_York:20240112T213000
LAST-MODIFIED:20240108T014421Z
LOCATION:BlakWater House, 218 W. Saratoga Street, Baltimore, MD
RRULE:FREQ=MONTHLY;COUNT=12;INTERVAL=1;BYDAY=+2FR;BYMONTH=1,2,3,4,5,6,7,8,9
 ,10,11,12;WKST=SU
SUMMARY:Block Party: Baltimore's Best Black Improv
URL:https://highwireimprov.com
X-GBCA-NID:34802
END:VEVENT
END:VCALENDAR
