BEGIN:VCALENDAR
VERSION:2.0
PRODID:-//Date iCal v2.14-dev//NONSGML kigkonsult.se iCalcreator 2.16.6//
METHOD:PUBLISH
X-WR-CALNAME;VALUE=TEXT:Greater Baltimore Cultural Alliance
BEGIN:VTIMEZONE
TZID:America/New_York
BEGIN:STANDARD
DTSTART:20241103T020000
TZOFFSETFROM:-0400
TZOFFSETTO:-0500
TZNAME:EST
END:STANDARD
BEGIN:DAYLIGHT
DTSTART:20240310T020000
TZOFFSETFROM:-0500
TZOFFSETTO:-0400
TZNAME:EDT
END:DAYLIGHT
END:VTIMEZONE
BEGIN:VEVENT
UID:calendar.34687.field_fc_date.0@culturefly.org
DTSTAMP:20260425T153042Z
ATTACH;FMTTYPE=image/png:https://culturefly.org/sites/default/files/event-i
 mage/BSO%20Worship%20Live.png
CATEGORIES:Performance
CREATED:20231206T181613Z
DESCRIPTION:Join a stellar lineup of chart-topping and Grammy award-winning
  artists for  an evening of gospel favorites. The Worship Live Holiday Tou
 r features  headliner Fred Hammond, with special guests Donnie McClurkin\
 , Hezekiah  Walker, Todd Dulaney, Anthony Brown, and more! Come celebra
 te the holiday  season with this epic night of worship at the Joseph Meyer
 hoff Symphony Hall!  This is an experience you won’t want to miss. The Bal
 timore Symphony  Orchestra does not appear on this program.
DTSTART;TZID=America/New_York:20231214T193000
DTEND;TZID=America/New_York:20231214T210000
LAST-MODIFIED:20231206T191817Z
LOCATION:Joseph Meyerhoff Symphony Hall, 1212 Cathedral Street, Baltimore
 , MD
SUMMARY:BSO Music presents: Gospel Holiday: Worship Live!
URL:https://www.ticketmaster.com/event/15005F57B54C1CA8
X-GBCA-NID:34687
END:VEVENT
END:VCALENDAR
