BEGIN:VCALENDAR
VERSION:2.0
PRODID:-//Date iCal v2.14-dev//NONSGML kigkonsult.se iCalcreator 2.16.6//
METHOD:PUBLISH
X-WR-CALNAME;VALUE=TEXT:Greater Baltimore Cultural Alliance
BEGIN:VTIMEZONE
TZID:America/New_York
BEGIN:STANDARD
DTSTART:20241103T020000
TZOFFSETFROM:-0400
TZOFFSETTO:-0500
TZNAME:EST
END:STANDARD
BEGIN:DAYLIGHT
DTSTART:20240310T020000
TZOFFSETFROM:-0500
TZOFFSETTO:-0400
TZNAME:EDT
END:DAYLIGHT
END:VTIMEZONE
BEGIN:VEVENT
UID:calendar.34620.field_fc_date.0@culturefly.org
DTSTAMP:20260420T082033Z
ATTACH;FMTTYPE=image/jpeg:https://culturefly.org/sites/default/files/event-
 image/https___cdn.evbuc_.com_images_642506189_63692068261_1_original.jpg
CATEGORIES:Performance
CREATED:20231130T030500Z
DESCRIPTION:The Baltimore Men's Chorus presents 'Walking in a Winter Wonder
 land - a  winter choral concert resonating with the themes of arrivals and
  departures,  comings and goings, evoking the enchantment of walking in 
 a winter  wonderland. Harmonious voices intertwine, creating a musical jo
 urney that  mirrors the seasonal transitions, leaving the audience wrappe
 d in the magic  of winter’s melodies.\n\nTWO CONCERTS
DTSTART;TZID=America/New_York:20231215T200000
DTEND;TZID=America/New_York:20231215T220000
GEO:+39.295109;-76.615521
LAST-MODIFIED:20231202T220021Z
LOCATION:First Unitarian Church of Baltimore, Charles & Franklin Streets,
  Baltimore, MD
SUMMARY:BMC presents: Walking in a Winter Wonderland
URL:https://www.eventbrite.com/e/bmc-presents-walking-in-a-winter-wonderlan
 d-tickets-758311850157?aff=oddtdtcreator
X-GBCA-NID:34620
END:VEVENT
BEGIN:VEVENT
UID:calendar.34620.field_fc_date.0@culturefly.org
DTSTAMP:20260420T082033Z
ATTACH;FMTTYPE=image/jpeg:https://culturefly.org/sites/default/files/event-
 image/https___cdn.evbuc_.com_images_642506189_63692068261_1_original.jpg
CATEGORIES:Performance
CREATED:20231130T030500Z
DESCRIPTION:The Baltimore Men's Chorus presents 'Walking in a Winter Wonder
 land - a  winter choral concert resonating with the themes of arrivals and
  departures,  comings and goings, evoking the enchantment of walking in 
 a winter  wonderland. Harmonious voices intertwine, creating a musical jo
 urney that  mirrors the seasonal transitions, leaving the audience wrappe
 d in the magic  of winter’s melodies.\n\nTWO CONCERTS
DTSTART;TZID=America/New_York:20231216T190000
DTEND;TZID=America/New_York:20231216T210000
GEO:+39.295109;-76.615521
LAST-MODIFIED:20231202T220021Z
LOCATION:First Unitarian Church of Baltimore, Charles & Franklin Streets,
  Baltimore, MD
SUMMARY:BMC presents: Walking in a Winter Wonderland
URL:https://www.eventbrite.com/e/bmc-presents-walking-in-a-winter-wonderlan
 d-tickets-758311850157?aff=oddtdtcreator
X-GBCA-NID:34620
END:VEVENT
END:VCALENDAR
