BEGIN:VCALENDAR
VERSION:2.0
PRODID:-//Date iCal v2.14-dev//NONSGML kigkonsult.se iCalcreator 2.16.6//
METHOD:PUBLISH
X-WR-CALNAME;VALUE=TEXT:Greater Baltimore Cultural Alliance
BEGIN:VTIMEZONE
TZID:America/New_York
BEGIN:STANDARD
DTSTART:20241103T020000
TZOFFSETFROM:-0400
TZOFFSETTO:-0500
TZNAME:EST
END:STANDARD
BEGIN:DAYLIGHT
DTSTART:20240310T020000
TZOFFSETFROM:-0500
TZOFFSETTO:-0400
TZNAME:EDT
END:DAYLIGHT
END:VTIMEZONE
BEGIN:VEVENT
UID:calendar.34587.field_fc_date.0@culturefly.org
DTSTAMP:20260420T154916Z
ATTACH;FMTTYPE=image/png:https://culturefly.org/sites/default/files/Screens
 hot%202023-11-25%20at%207.43.45%20PM.png
CATEGORIES:Performance
CREATED:20231126T004530Z
DESCRIPTION:/*Maryland Concert Series Presents*/\n\n*/Home for the Holidays
 !/ - Anne Arundel Community College Holiday Show*\n\n*All Ages!*
DTSTART;TZID=America/New_York:20231217T150000
DTEND;TZID=America/New_York:20231217T170000
GEO:+39.215672;-76.618111
LAST-MODIFIED:20240301T001257Z
LOCATION:Chesapeake Arts Center, 194 Hammonds Lane, Brooklyn Park, MD
SUMMARY:Home for the Holidays! - Anne Arundel Community College Holiday Sho
 w
URL:https://www.chesapeakearts.org/eventscalendar/maryland-concert-series-p
 resentsanne-arundel-community-college-holiday-show
X-GBCA-NID:34587
END:VEVENT
END:VCALENDAR
