BEGIN:VCALENDAR
VERSION:2.0
PRODID:-//Date iCal v2.14-dev//NONSGML kigkonsult.se iCalcreator 2.16.6//
METHOD:PUBLISH
X-WR-CALNAME;VALUE=TEXT:Greater Baltimore Cultural Alliance
BEGIN:VTIMEZONE
TZID:America/New_York
BEGIN:STANDARD
DTSTART:20241103T020000
TZOFFSETFROM:-0400
TZOFFSETTO:-0500
TZNAME:EST
END:STANDARD
BEGIN:DAYLIGHT
DTSTART:20250309T020000
TZOFFSETFROM:-0500
TZOFFSETTO:-0400
TZNAME:EDT
END:DAYLIGHT
END:VTIMEZONE
BEGIN:VEVENT
UID:calendar.34184.field_fc_date.0@culturefly.org
DTSTAMP:20260424T111900Z
ATTACH;FMTTYPE=image/jpeg:https://culturefly.org/sites/default/files/u147/T
 he%20Return%20of%20Ulysses.jpg
CATEGORIES:Performance
CREATED:20231011T204542Z
DESCRIPTION:*From IN Series*\n\n*RETURN OF ULYSSES SONG OF MY FATHER*\n\n*M
 ONTEVERDI*\n\n*May 31 – June 2*
DTSTART;TZID=America/New_York:20240531T193000
DTEND;TZID=America/New_York:20240531T220000
GEO:+39.304254;-76.618327
LAST-MODIFIED:20240402T153550Z
LOCATION:Theatre Project, 45 West Preston Street, Baltimore, MD
SUMMARY:RETURN OF ULYSSES
URL:https://www.theatreproject.org/return-of-ulysses/
X-GBCA-NID:34184
END:VEVENT
BEGIN:VEVENT
UID:calendar.34184.field_fc_date.0@culturefly.org
DTSTAMP:20260424T111900Z
ATTACH;FMTTYPE=image/jpeg:https://culturefly.org/sites/default/files/u147/T
 he%20Return%20of%20Ulysses.jpg
CATEGORIES:Performance
CREATED:20231011T204542Z
DESCRIPTION:*From IN Series*\n\n*RETURN OF ULYSSES SONG OF MY FATHER*\n\n*M
 ONTEVERDI*\n\n*May 31 – June 2*
DTSTART;TZID=America/New_York:20240601T193000
DTEND;TZID=America/New_York:20240601T220000
GEO:+39.304254;-76.618327
LAST-MODIFIED:20240402T153550Z
LOCATION:Theatre Project, 45 West Preston Street, Baltimore, MD
SUMMARY:RETURN OF ULYSSES
URL:https://www.theatreproject.org/return-of-ulysses/
X-GBCA-NID:34184
END:VEVENT
BEGIN:VEVENT
UID:calendar.34184.field_fc_date.0@culturefly.org
DTSTAMP:20260424T111900Z
ATTACH;FMTTYPE=image/jpeg:https://culturefly.org/sites/default/files/u147/T
 he%20Return%20of%20Ulysses.jpg
CATEGORIES:Performance
CREATED:20231011T204542Z
DESCRIPTION:*From IN Series*\n\n*RETURN OF ULYSSES SONG OF MY FATHER*\n\n*M
 ONTEVERDI*\n\n*May 31 – June 2*
DTSTART;TZID=America/New_York:20240602T160000
DTEND;TZID=America/New_York:20240602T183000
GEO:+39.304254;-76.618327
LAST-MODIFIED:20240402T153550Z
LOCATION:Theatre Project, 45 West Preston Street, Baltimore, MD
SUMMARY:RETURN OF ULYSSES
URL:https://www.theatreproject.org/return-of-ulysses/
X-GBCA-NID:34184
END:VEVENT
END:VCALENDAR
