BEGIN:VCALENDAR
VERSION:2.0
PRODID:-//Date iCal v2.14-dev//NONSGML kigkonsult.se iCalcreator 2.16.6//
METHOD:PUBLISH
X-WR-CALNAME;VALUE=TEXT:Greater Baltimore Cultural Alliance
BEGIN:VTIMEZONE
TZID:America/New_York
BEGIN:STANDARD
DTSTART:20241103T020000
TZOFFSETFROM:-0400
TZOFFSETTO:-0500
TZNAME:EST
END:STANDARD
BEGIN:DAYLIGHT
DTSTART:20250309T020000
TZOFFSETFROM:-0500
TZOFFSETTO:-0400
TZNAME:EDT
END:DAYLIGHT
END:VTIMEZONE
BEGIN:VEVENT
UID:calendar.34164.field_fc_date.0@culturefly.org
DTSTAMP:20260421T133036Z
ATTACH;FMTTYPE=image/png:https://culturefly.org/sites/default/files/event-i
 mage/HCS%20small%20picture_2.png
CATEGORIES:,Performance
CREATED:20231010T040847Z
DESCRIPTION:The spring program will feature Mozart’s /Mass in F/, an exqui
 site,  spirited composition from one of the great masters. The program fe
 atures a  collection of favorite madrigals including works by Morley, Gra
 ves, and  Gibbons. The concert will conclude with an ethereal composition
  entitled  /Song of the Universal,/ a piece scored for voices, piano, a
 nd strings, by  contemporary composer Ola Gjeilo.\n\nFor ticket purchases
  and pricing please visit our website at  http://harfordchoralsociety.org 
  [1]\n\n\n[1] http://harfordchoralsociety.org 
DTSTART;TZID=America/New_York:20240504T190000
DTEND;TZID=America/New_York:20240504T203000
GEO:+39.542044;-76.329628
LAST-MODIFIED:20231010T154743Z
LOCATION:St Matthew Lutheran Church, 1200 Churchville Rd, Bel Air, MD
SUMMARY:Harford Choral Society presents CELESTIAL VOICES
URL:https://harfordchoralsociety.org/
X-GBCA-NID:34164
END:VEVENT
END:VCALENDAR
