BEGIN:VCALENDAR
VERSION:2.0
PRODID:-//Date iCal v2.14-dev//NONSGML kigkonsult.se iCalcreator 2.16.6//
METHOD:PUBLISH
X-WR-CALNAME;VALUE=TEXT:Greater Baltimore Cultural Alliance
BEGIN:VTIMEZONE
TZID:America/New_York
BEGIN:STANDARD
DTSTART:20231105T020000
TZOFFSETFROM:-0400
TZOFFSETTO:-0500
TZNAME:EST
END:STANDARD
BEGIN:DAYLIGHT
DTSTART:20240310T020000
TZOFFSETFROM:-0500
TZOFFSETTO:-0400
TZNAME:EDT
END:DAYLIGHT
END:VTIMEZONE
BEGIN:VEVENT
UID:calendar.33971.field_fc_date.0@culturefly.org
DTSTAMP:20260424T051840Z
ATTACH;FMTTYPE=image/jpeg:https://culturefly.org/sites/default/files/event-
 image/Tuba%20Trio%202023%20group%20photo.jpg
CATEGORIES:,,
CREATED:20230918T173646Z
DESCRIPTION:Celebrating the Sam Rivers centennial, in-person and livestrea
 m tickets  available!!\n\nJoseph Daley, tuba Warren Smith, percussion Sc
 ott Robinson, reeds special guest Ken Filiano, bass
DTSTART;TZID=America/New_York:20230930T200000
DTEND;TZID=America/New_York:20230930T220000
LAST-MODIFIED:20230918T180259Z
LOCATION:An Die Musik Live, 409 North Charles Street Second Floor, Baltim
 ore, MD
SUMMARY:Joseph Daley Tuba Trio with special guest Ken Filiano
URL:https://www.instantseats.com/?fuseaction=home.artist&VenueID=321&artist
 id=25573
X-GBCA-NID:33971
END:VEVENT
END:VCALENDAR
