BEGIN:VCALENDAR
VERSION:2.0
PRODID:-//Date iCal v2.14-dev//NONSGML kigkonsult.se iCalcreator 2.16.6//
METHOD:PUBLISH
X-WR-CALNAME;VALUE=TEXT:Greater Baltimore Cultural Alliance
BEGIN:VTIMEZONE
TZID:America/New_York
BEGIN:STANDARD
DTSTART:20231105T020000
TZOFFSETFROM:-0400
TZOFFSETTO:-0500
TZNAME:EST
END:STANDARD
BEGIN:DAYLIGHT
DTSTART:20240310T020000
TZOFFSETFROM:-0500
TZOFFSETTO:-0400
TZNAME:EDT
END:DAYLIGHT
END:VTIMEZONE
BEGIN:VEVENT
UID:calendar.33916.field_fc_date.0@culturefly.org
DTSTAMP:20260424T232030Z
ATTACH;FMTTYPE=image/png:https://culturefly.org/sites/default/files/event-i
 mage/DUCKSCAPE.png
CATEGORIES:,,,Nightlife
CREATED:20230913T170450Z
DESCRIPTION:Ducky Dynamo invites you to bid Summer adieu in dance party for
 m! And party  off some of the artistic energy you may or may not consume a
 t a certain  festival during the day\n\nBaltimore area DJs will be joining
  Ducky in spinning all the Baltimore Club,  Jungle, House, Hip-Hop, an
 d whatever tf else we want!\n\nFood, treats, wares, and drink specials 
 will be on deck. All we need is you!\n\nFriday features DJ KeeBee Graffite
 ch\n\nSaturday features DJ Dolla MOODBOARD\n\nFOOD by Cat's Kitchen\n\nTRE
 ATS by Dispense Throne
DTSTART;TZID=America/New_York:20230922T210000
DTEND;TZID=America/New_York:20230923T013000
LAST-MODIFIED:20230914T011437Z
LOCATION:Le Mondo, 406 North Howard Street, Baltimore, MD
SUMMARY:#DUCKSCAPE After Dark - A Dance Party Shindig
URL;TYPE=URI:https://culturefly.org/calendar/event/33916/duckscape-after-da
 rk-dance-party-shindig
X-GBCA-NID:33916
END:VEVENT
BEGIN:VEVENT
UID:calendar.33916.field_fc_date.0@culturefly.org
DTSTAMP:20260424T232030Z
ATTACH;FMTTYPE=image/png:https://culturefly.org/sites/default/files/event-i
 mage/DUCKSCAPE.png
CATEGORIES:,,,Nightlife
CREATED:20230913T170450Z
DESCRIPTION:Ducky Dynamo invites you to bid Summer adieu in dance party for
 m! And party  off some of the artistic energy you may or may not consume a
 t a certain  festival during the day\n\nBaltimore area DJs will be joining
  Ducky in spinning all the Baltimore Club,  Jungle, House, Hip-Hop, an
 d whatever tf else we want!\n\nFood, treats, wares, and drink specials 
 will be on deck. All we need is you!\n\nFriday features DJ KeeBee Graffite
 ch\n\nSaturday features DJ Dolla MOODBOARD\n\nFOOD by Cat's Kitchen\n\nTRE
 ATS by Dispense Throne
DTSTART;TZID=America/New_York:20230923T210000
DTEND;TZID=America/New_York:20230924T013000
LAST-MODIFIED:20230914T011437Z
LOCATION:Le Mondo, 406 North Howard Street, Baltimore, MD
SUMMARY:#DUCKSCAPE After Dark - A Dance Party Shindig
URL;TYPE=URI:https://culturefly.org/calendar/event/33916/duckscape-after-da
 rk-dance-party-shindig
X-GBCA-NID:33916
END:VEVENT
END:VCALENDAR
