BEGIN:VCALENDAR
VERSION:2.0
PRODID:-//Date iCal v2.14-dev//NONSGML kigkonsult.se iCalcreator 2.16.6//
METHOD:PUBLISH
X-WR-CALNAME;VALUE=TEXT:Greater Baltimore Cultural Alliance
BEGIN:VTIMEZONE
TZID:America/New_York
BEGIN:STANDARD
DTSTART:20231105T020000
TZOFFSETFROM:-0400
TZOFFSETTO:-0500
TZNAME:EST
END:STANDARD
BEGIN:DAYLIGHT
DTSTART:20240310T020000
TZOFFSETFROM:-0500
TZOFFSETTO:-0400
TZNAME:EDT
END:DAYLIGHT
END:VTIMEZONE
BEGIN:VEVENT
UID:calendar.33683.field_fc_date.0@culturefly.org
DTSTAMP:20260421T132551Z
ATTACH;FMTTYPE=image/jpeg:https://culturefly.org/sites/default/files/u497/A
 my%20Eva%20Raehse%20m.jpg
CATEGORIES:,,
CREATED:20230726T231648Z
DESCRIPTION:*Amy Eva Raehse* is executive director and partner at *Goya Con
 temporary  Gallery [1]* as well as a writer, educator, and independent c
 urator. In this  presentation by UMBC's Center for Innovation, Research a
 nd Creativity in the  Arts [2] (CIRCA), she will give us a behind the sce
 nes view of her career and  will answer any burning questions you may have
  about gallery practices,  representation, and sustaining a contemporary
  art gallery in Baltimore.\n\n\n[1] https://www.goyacontemporary.com/ [2] 
 https://circa.umbc.edu/
DTSTART;TZID=America/New_York:20231101T120000
DTEND;TZID=America/New_York:20231101T130000
GEO:+39.255114;-76.711196
LAST-MODIFIED:20231130T001256Z
LOCATION:UMBC Performing Arts and Humanities Building, 1000 Hilltop Circle
 , Baltimore, MD
SUMMARY:Amy Eva Raehse: Gallery Director and Curator
URL:https://umbc.edu/event/amy-eva-raehse-gallery-director-and-curator/
X-GBCA-NID:33683
END:VEVENT
END:VCALENDAR
