BEGIN:VCALENDAR
VERSION:2.0
PRODID:-//Date iCal v2.14-dev//NONSGML kigkonsult.se iCalcreator 2.16.6//
METHOD:PUBLISH
X-WR-CALNAME;VALUE=TEXT:Greater Baltimore Cultural Alliance
BEGIN:VTIMEZONE
TZID:America/New_York
BEGIN:STANDARD
DTSTART:20231105T020000
TZOFFSETFROM:-0400
TZOFFSETTO:-0500
TZNAME:EST
END:STANDARD
BEGIN:DAYLIGHT
DTSTART:20240310T020000
TZOFFSETFROM:-0500
TZOFFSETTO:-0400
TZNAME:EDT
END:DAYLIGHT
END:VTIMEZONE
BEGIN:VEVENT
UID:calendar.33325.field_fc_date.0@culturefly.org
DTSTAMP:20260420T184724Z
ATTACH;FMTTYPE=image/jpeg:https://culturefly.org/sites/default/files/event-
 image/Motown%20%26%20More%20large.jpg
CATEGORIES:,,Performance
CREATED:20230430T200052Z
DESCRIPTION:*Your Girl Cheryl Presents A Father's Day Special: An Old Schoo
 l Celebration*\n\nCelebrate Dad with the legendary music of Motown when Mo
 town & More takes the  stage at the Gordon. Conjuring the sounds and image
 s of a past musical era of  great artists, classic songs, smooth choreog
 raphy and exciting stage  productions... be there on Father's Day when the
  message in the music  connects you back to the best in music!
DTSTART;TZID=America/New_York:20230618T190000
DTEND;TZID=America/New_York:20230618T220000
LAST-MODIFIED:20230501T140658Z
LOCATION:The Gordon Center for Performing Arts, 3506 Gwynbrooke Avenue, O
 wings Mills, MD
SUMMARY:Motown & More: The Legacy Lives
URL:https://www.jcc.org/gordon-center/event/motown-more-legacy-lives
X-GBCA-NID:33325
END:VEVENT
END:VCALENDAR
