BEGIN:VCALENDAR
VERSION:2.0
PRODID:-//Date iCal v2.14-dev//NONSGML kigkonsult.se iCalcreator 2.16.6//
METHOD:PUBLISH
X-WR-CALNAME;VALUE=TEXT:Greater Baltimore Cultural Alliance
BEGIN:VTIMEZONE
TZID:America/New_York
BEGIN:STANDARD
DTSTART:20231105T020000
TZOFFSETFROM:-0400
TZOFFSETTO:-0500
TZNAME:EST
END:STANDARD
BEGIN:DAYLIGHT
DTSTART:20240310T020000
TZOFFSETFROM:-0500
TZOFFSETTO:-0400
TZNAME:EDT
END:DAYLIGHT
END:VTIMEZONE
BEGIN:VEVENT
UID:calendar.33310.field_fc_date.0@culturefly.org
DTSTAMP:20260421T210421Z
ATTACH;FMTTYPE=image/jpeg:https://culturefly.org/sites/default/files/event-
 image/Dupont%20Brass%20Band%20lowest.jpg
CATEGORIES:,Performance
CREATED:20230427T171904Z
DESCRIPTION:DuPont Brass is a one-of-a-kind, brass-driven supergroup from 
 the D.C. Area  and a 9-piece ensemble consisting of brass, a rhythm secti
 on, and vocalists.  Through their training in classical and contemporary 
 styles, DuPont Brass has  developed a sound they've coined 'Eclectic Soul
 ' that mixes varied genres of  music, including jazz, hip-hop, and R&B.
  See them perform as part of the Free  LakeFest Weekend presented by Colum
 bia Festival of the Arts, June 16-18,  2023, at the Downtown Columbia L
 akefront.
DTSTART;TZID=America/New_York:20230616T211500
DTEND;TZID=America/New_York:20230616T223000
GEO:+39.215141;-76.856917
LAST-MODIFIED:20230427T202356Z
LOCATION:Columbia Lakefront, 10227 Wincopin Circle, Columbia, MD
SUMMARY:DuPont Brass
URL:http://columbiafestival.org/lakefest-free-weekend/
X-GBCA-NID:33310
END:VEVENT
END:VCALENDAR
