BEGIN:VCALENDAR
VERSION:2.0
PRODID:-//Date iCal v2.14-dev//NONSGML kigkonsult.se iCalcreator 2.16.6//
METHOD:PUBLISH
X-WR-CALNAME;VALUE=TEXT:Greater Baltimore Cultural Alliance
BEGIN:VTIMEZONE
TZID:America/New_York
BEGIN:STANDARD
DTSTART:20231105T020000
TZOFFSETFROM:-0400
TZOFFSETTO:-0500
TZNAME:EST
END:STANDARD
BEGIN:DAYLIGHT
DTSTART:20240310T020000
TZOFFSETFROM:-0500
TZOFFSETTO:-0400
TZNAME:EDT
END:DAYLIGHT
END:VTIMEZONE
BEGIN:VEVENT
UID:calendar.33286.field_fc_date.0@culturefly.org
DTSTAMP:20260426T004420Z
ATTACH;FMTTYPE=image/jpeg:https://culturefly.org/sites/default/files/event-
 image/SOLACE%20%288.5X11%29%20-3.jpg
CATEGORIES:,Lectures/ Workshops,Exhibition,,Lectures/ Workshops
CREATED:20230420T191621Z
DESCRIPTION:Please join artist Antoinette Meyers Perry, and Solace exhibit
 ion at The  Peale curator Cheyene Adams for an interactive workshop about 
 self love and  growth. Through art and crafts we will explore what it mean
 s to bloom where  we are planted. Join us this Saturday April 22, 2023 at
  The Peale from  12-2pm. Hope to see you there!
DTSTART;TZID=America/New_York:20230422T120000
DTEND;TZID=America/New_York:20230422T140000
GEO:+39.291844;-76.610129
LAST-MODIFIED:20230422T172851Z
LOCATION:The Peale Center for Baltimore History and Architecture, 225 Holl
 iday Street, Baltimore, MD
SUMMARY:Solace presents 'Bloom'
URL:https://www.thepeale.org/event/solace-presents-bloom/
X-GBCA-NID:33286
END:VEVENT
END:VCALENDAR
