BEGIN:VCALENDAR
VERSION:2.0
PRODID:-//Date iCal v2.14-dev//NONSGML kigkonsult.se iCalcreator 2.16.6//
METHOD:PUBLISH
X-WR-CALNAME;VALUE=TEXT:Greater Baltimore Cultural Alliance
BEGIN:VTIMEZONE
TZID:America/New_York
BEGIN:STANDARD
DTSTART:20231105T020000
TZOFFSETFROM:-0400
TZOFFSETTO:-0500
TZNAME:EST
END:STANDARD
BEGIN:DAYLIGHT
DTSTART:20230312T020000
TZOFFSETFROM:-0500
TZOFFSETTO:-0400
RDATE:20240310T020000
TZNAME:EDT
END:DAYLIGHT
END:VTIMEZONE
BEGIN:VEVENT
UID:calendar.33121.field_fc_date.0@culturefly.org
DTSTAMP:20260424T112421Z
ATTACH;FMTTYPE=image/jpeg:https://culturefly.org/sites/default/files/event-
 image/KIDOO_2023_V6%20copy%202.jpg
CATEGORIES:,Exhibition
CREATED:20230316T181521Z
DESCRIPTION:Maryland Art Place (MAP) is happy to continue KIDOOO, a youth 
 version of Out  of Order! KIDOOO was created as an opportunity for young a
 rtists to exhibit  their work in a major arts venue, expanding MAP’s serv
 ices to students in  elementary, middle, and high school level arts clas
 ses.\n\nThe opening of KIDOOO will take place in tandem with MAP's annual 
 Out of  Order event on April 21, 2022.
DTSTART;TZID=America/New_York:20230409T120000
DTEND;TZID=America/New_York:20230409T160000
GEO:+39.293155;-76.618815
LAST-MODIFIED:20230317T191826Z
LOCATION:Maryland Art Place, 218 W Saratoga St, Baltimore, MD
SUMMARY:KIDOOO Install 2023
URL:https://e.givesmart.com/events/vSa/
X-GBCA-NID:33121
END:VEVENT
END:VCALENDAR
