BEGIN:VCALENDAR
VERSION:2.0
PRODID:-//Date iCal v2.14-dev//NONSGML kigkonsult.se iCalcreator 2.16.6//
METHOD:PUBLISH
X-WR-CALNAME;VALUE=TEXT:Greater Baltimore Cultural Alliance
BEGIN:VTIMEZONE
TZID:America/New_York
BEGIN:STANDARD
DTSTART:20231105T020000
TZOFFSETFROM:-0400
TZOFFSETTO:-0500
TZNAME:EST
END:STANDARD
BEGIN:DAYLIGHT
DTSTART:20230312T020000
TZOFFSETFROM:-0500
TZOFFSETTO:-0400
TZNAME:EDT
END:DAYLIGHT
END:VTIMEZONE
BEGIN:VEVENT
UID:calendar.32965.field_fc_date.0@culturefly.org
DTSTAMP:20260425T120347Z
ATTACH;FMTTYPE=image/png:https://culturefly.org/sites/default/files/event-i
 mage/Dark%20Blue%20Minimalist%20Concert%20Facebook%20Event%20Cover.png
CATEGORIES:,,,,,History & Heritage,,,Lectures/ Workshops
CREATED:20230209T200140Z
DESCRIPTION:*Come play with real pigs* from Whispering Rise Farm & Animal S
 anctuary at  the corner of Washington Boulevard and Poppleton Street on Sa
 turday, March 4,  2023 from 1-3pm for BALTIMORE'S THIRD ANNUAL NATIONAL 
 PIG DAY celebration!\n\nDate and Time: Saturday, March 4th 1 - 3pm\n\nAdd
 ress: 916 Washington Blvd, Baltimore, MD 21230 (On corner of Washington 
  Blvd & S. Poppleton St.)\n\n*FREE ACTIVITIES*\n\n- POT BELLY PIG PETTING 
 ZOO\n\n- KID-FRIENDLY Treats & Cookie Decoration with Groundwork Kitchen
DTSTART;TZID=America/New_York:20230304T130000
DTEND;TZID=America/New_York:20230304T150000
LAST-MODIFIED:20230215T192802Z
LOCATION:National Pig Day , 916 Washington Boulevard,, Baltimore City, 
 MD
SUMMARY:Third Annual National Pig Day Celebration
URL:https://www.pigtownmainstreet.org/events/third-annual-national-pig-day
X-GBCA-NID:32965
END:VEVENT
END:VCALENDAR
