BEGIN:VCALENDAR
VERSION:2.0
PRODID:-//Date iCal v2.14-dev//NONSGML kigkonsult.se iCalcreator 2.16.6//
METHOD:PUBLISH
X-WR-CALNAME;VALUE=TEXT:Greater Baltimore Cultural Alliance
BEGIN:VTIMEZONE
TZID:America/New_York
BEGIN:STANDARD
DTSTART:20231105T020000
TZOFFSETFROM:-0400
TZOFFSETTO:-0500
TZNAME:EST
END:STANDARD
BEGIN:DAYLIGHT
DTSTART:20230312T020000
TZOFFSETFROM:-0500
TZOFFSETTO:-0400
TZNAME:EDT
END:DAYLIGHT
END:VTIMEZONE
BEGIN:VEVENT
UID:calendar.32934.field_fc_date.0@culturefly.org
DTSTAMP:20260425T103731Z
ATTACH;FMTTYPE=image/jpeg:https://culturefly.org/sites/default/files/event-
 image/RiceGallery_5.jpg
CATEGORIES:,
CREATED:20230209T150245Z
DESCRIPTION:McDaniel College’s art department showcases work by McDaniel Co
 llege  seniors Rowan Berti of Wilmington, Delaware, Skylar Blackbull of 
 Crownpoint,  New Mexico, Kelsey Bosley of Manchester, Maryland, Kate C
 ramer of Glen Rock,  Pennsylvania, Grace Harshman of Hagerstown, Maryla
 nd, and Juliana Stolkovich  of Littlestown, Pennsylvania.
DTSTART;TZID=America/New_York:20230221T100000
DTEND;TZID=America/New_York:20230310T160000
LAST-MODIFIED:20230215T192807Z
LOCATION:The Esther Prangley Rice Gallery, McDaniel College, 2 College Hi
 ll, Westminster, MD
RRULE:FREQ=WEEKLY;UNTIL=20230311T095959Z;INTERVAL=1;BYDAY=MO,TU,WE,TH,FR;WK
 ST=SU
SUMMARY:Honors Art Exhibition
URL;TYPE=URI:https://culturefly.org/calendar/event/32934/honors-art-exhibit
 ion
X-GBCA-NID:32934
END:VEVENT
END:VCALENDAR
