BEGIN:VCALENDAR
VERSION:2.0
PRODID:-//Date iCal v2.14-dev//NONSGML kigkonsult.se iCalcreator 2.16.6//
METHOD:PUBLISH
X-WR-CALNAME;VALUE=TEXT:Greater Baltimore Cultural Alliance
BEGIN:VTIMEZONE
TZID:America/New_York
BEGIN:STANDARD
DTSTART:20231105T020000
TZOFFSETFROM:-0400
TZOFFSETTO:-0500
TZNAME:EST
END:STANDARD
BEGIN:DAYLIGHT
DTSTART:20230312T020000
TZOFFSETFROM:-0500
TZOFFSETTO:-0400
TZNAME:EDT
END:DAYLIGHT
END:VTIMEZONE
BEGIN:VEVENT
UID:calendar.32807.field_fc_date.0@culturefly.org
DTSTAMP:20260420T023710Z
ATTACH;FMTTYPE=image/jpeg:https://culturefly.org/sites/default/files/u138/T
 woWings_web.jpg
CATEGORIES:,Exhibition,
CREATED:20230107T014330Z
DESCRIPTION:Following sold out engagements at Carnegie Hall and The Kennedy
  Center, jazz  pianist, composer, and artist Jason Moran and mezzo-sopr
 ano and composer  Alicia Hall Moran will create a special rendition of the
 ir acclaimed Two  Wings: The Music of Black America in Migration performan
 ce. Renowned author  and scholar Farah Jasmine Griffin will read from her 
 works on the Great  Migration, Billie Holiday, and more, as the Morans 
 share their own family  lore, both harrowing and inspiring.
DTSTART;TZID=America/New_York:20230126T183000
DTEND;TZID=America/New_York:20230126T200000
GEO:+39.325755;-76.61944
LAST-MODIFIED:20230930T001256Z
LOCATION:Baltimore Museum of Art, 10 Art Museum Drive, Baltimore, MD
SUMMARY:Two Wings: The Music of Black America in Migration
URL:https://artbma.org/event/two-wings-the-music-of-black-america-in-migrat
 ion/
X-GBCA-NID:32807
END:VEVENT
END:VCALENDAR
