BEGIN:VCALENDAR
VERSION:2.0
PRODID:-//Date iCal v2.14-dev//NONSGML kigkonsult.se iCalcreator 2.16.6//
METHOD:PUBLISH
X-WR-CALNAME;VALUE=TEXT:Greater Baltimore Cultural Alliance
BEGIN:VTIMEZONE
TZID:America/New_York
BEGIN:STANDARD
DTSTART:20221106T020000
TZOFFSETFROM:-0400
TZOFFSETTO:-0500
TZNAME:EST
END:STANDARD
BEGIN:DAYLIGHT
DTSTART:20230312T020000
TZOFFSETFROM:-0500
TZOFFSETTO:-0400
TZNAME:EDT
END:DAYLIGHT
END:VTIMEZONE
BEGIN:VEVENT
UID:calendar.31592.field_fc_date.0@culturefly.org
DTSTAMP:20260420T092152Z
ATTACH;FMTTYPE=image/jpeg:https://culturefly.org/sites/default/files/u138/P
 erez_Tomashi_and_Ally_I.jpg
CATEGORIES:,Exhibition
CREATED:20220426T142552Z
DESCRIPTION:Organized by Carnegie Museum of Art, this exhibition debuts a 
 recent body of  work by New York-based artist Elle Pérez.\n\nIncluding 13 
 photographs created between 2019 and 2021, Devotions explores  relationsh
 ip building, creating space to reflect on how we navigate ourselves  in r
 elation to others and the world. Pérez’s carefully sequenced images  dwell
  in moments of grief and care, pain and pleasure, desire and  self-explo
 ration. Amidst recurring motifs of water, touch, and BDSM are also  stri
 king choices in proximity, scale, color, and light.
DTSTART;TZID=America/New_York:20220427T100000
DTEND;TZID=America/New_York:20220427T170000
EXDATE;TZID=America/New_York:20220619T100000
EXDATE;TZID=America/New_York:20221124T100000
EXDATE;TZID=America/New_York:20221225T100000
EXDATE;TZID=America/New_York:20230101T100000
GEO:+39.325755;-76.61944
LAST-MODIFIED:20220910T001257Z
LOCATION:Baltimore Museum of Art, 10 Art Museum Drive, Baltimore, MD
RRULE:FREQ=WEEKLY;UNTIL=20230320T075959Z;INTERVAL=1;BYDAY=SU,WE,TH,FR,SA;WK
 ST=SU
SUMMARY:Elle Pérez: Devotions
URL:https://artbma.org/exhibition/elle-perez-devotions
X-GBCA-NID:31592
END:VEVENT
END:VCALENDAR
