BEGIN:VCALENDAR
VERSION:2.0
PRODID:-//Date iCal v2.14-dev//NONSGML kigkonsult.se iCalcreator 2.16.6//
METHOD:PUBLISH
X-WR-CALNAME;VALUE=TEXT:Greater Baltimore Cultural Alliance
BEGIN:VTIMEZONE
TZID:America/New_York
BEGIN:STANDARD
DTSTART:20221106T020000
TZOFFSETFROM:-0400
TZOFFSETTO:-0500
TZNAME:EST
END:STANDARD
BEGIN:DAYLIGHT
DTSTART:20230312T020000
TZOFFSETFROM:-0500
TZOFFSETTO:-0400
TZNAME:EDT
END:DAYLIGHT
END:VTIMEZONE
BEGIN:VEVENT
UID:calendar.31488.field_fc_date.0@culturefly.org
DTSTAMP:20260424T113228Z
ATTACH;FMTTYPE=image/jpeg:https://culturefly.org/sites/default/files/event-
 image/Graphic%20GBCA%20-%20Ruth%20Channing.jpg
CATEGORIES:
CREATED:20220329T220159Z
DESCRIPTION:Join us at Bismark-Wilson Gallery for Ruth Channing: Feminine S
 urreal.  Channing’s approach to printmaking is derived from the spontaneou
 s  “automatic drawing” theory of the Surrealists, combined with the  trad
 ition of French erotic art. Her work often has a literary source,  althou
 gh it is not intended as illustration. Rather, the viewer is invited to  
 interpret the work in their own way.
DTSTART;TZID=America/New_York:20220423T130000
DTEND;TZID=America/New_York:20220423T160000
LAST-MODIFIED:20220404T140954Z
LOCATION:Bismark-Wilson Gallery, 1760 Bank street, Baltimore, MD
RRULE:FREQ=DAILY;COUNT=2;INTERVAL=1;WKST=SU
SUMMARY:Ruth Channing: Feminine Surreal (Opening Receptions)
URL;TYPE=URI:https://culturefly.org/calendar/event/31488/ruth-channing-femi
 nine-surreal-opening-receptions
X-GBCA-NID:31488
END:VEVENT
END:VCALENDAR
