BEGIN:VCALENDAR
VERSION:2.0
PRODID:-//Date iCal v2.14-dev//NONSGML kigkonsult.se iCalcreator 2.16.6//
METHOD:PUBLISH
X-WR-CALNAME;VALUE=TEXT:Greater Baltimore Cultural Alliance
BEGIN:VTIMEZONE
TZID:America/New_York
BEGIN:STANDARD
DTSTART:20221106T020000
TZOFFSETFROM:-0400
TZOFFSETTO:-0500
TZNAME:EST
END:STANDARD
BEGIN:DAYLIGHT
DTSTART:20230312T020000
TZOFFSETFROM:-0500
TZOFFSETTO:-0400
TZNAME:EDT
END:DAYLIGHT
END:VTIMEZONE
BEGIN:VEVENT
UID:calendar.31176.field_fc_date.0@culturefly.org
DTSTAMP:20260419T192505Z
ATTACH;FMTTYPE=image/png:https://culturefly.org/sites/default/files/0b65b4_
 2c35705a041b4c29b4919dfc02b272f8_mv2_1.png
CATEGORIES:,Nightlife
CREATED:20220126T165701Z
DESCRIPTION:A Poetry and Prose open mic hosted by Patti Ross aka little pi 
 each third  Thursday of the month starting August. The open mic is for com
 munity  wordsmiths to share their work and love for language and performan
 ce. There  will be a sign in sheet at the door 15 minutes before start. Ea
 ch reader will  have five minutes to share their work. The evening lasts f
 rom 6pm to 7:30pm.  Every other month you can expect a featured reader/per
 formance artist!
DTSTART;TZID=America/New_York:20220519T180000
DTEND;TZID=America/New_York:20220519T193000
LAST-MODIFIED:20220505T154432Z
LOCATION:Clubhouse of Catonsville, 10 St Timothys Ln, Catonsville, MD
RRULE:FREQ=MONTHLY;UNTIL=20221223T095959Z;INTERVAL=1;BYDAY=+3TH;BYMONTH=6,7
 ,8,9,10,11,12;WKST=SU
SUMMARY:Poetry Open Mic with Patti Ross
URL:https://www.bcartsguild.org/event-details/poetry-open-mic-with-patti-ro
 ss-2022-02-17-19-00
X-GBCA-NID:31176
END:VEVENT
END:VCALENDAR
