BEGIN:VCALENDAR
VERSION:2.0
PRODID:-//Date iCal v2.14-dev//NONSGML kigkonsult.se iCalcreator 2.16.6//
METHOD:PUBLISH
X-WR-CALNAME;VALUE=TEXT:Greater Baltimore Cultural Alliance
BEGIN:VTIMEZONE
TZID:America/New_York
BEGIN:STANDARD
DTSTART:20221106T020000
TZOFFSETFROM:-0400
TZOFFSETTO:-0500
TZNAME:EST
END:STANDARD
BEGIN:DAYLIGHT
DTSTART:20220313T020000
TZOFFSETFROM:-0500
TZOFFSETTO:-0400
TZNAME:EDT
END:DAYLIGHT
END:VTIMEZONE
BEGIN:VEVENT
UID:calendar.31127.field_fc_date.0@culturefly.org
DTSTAMP:20260424T112007Z
ATTACH;FMTTYPE=image/jpeg:https://culturefly.org/sites/default/files/dracul
 a_0.JPG
CATEGORIES:,,,
CREATED:20220107T171951Z
DESCRIPTION:Come listen to the classic Bram Stoker tale, reimagined by Eli
 zabeth Salazar,  live!\n\n​\n\nListen as Professor Van Helsing leads a br
 ave group to face off against the  menacing Dracula! Can they stop him in 
 time, before he captures the lovely  Lucy?\n\n​\n\nShow Dates: January 29
 th, Rebroadcast to follow
DTSTART;TZID=America/New_York:20220129T190000
DTEND;TZID=America/New_York:20220129T203000
LAST-MODIFIED:20220107T172022Z
LOCATION:Virtual Event!, This event takes place online., Participate from
  Anywhere you are!, MD
SUMMARY:Dracula
URL:https://www.osarts.org/dracula
X-GBCA-NID:31127
END:VEVENT
END:VCALENDAR
