BEGIN:VCALENDAR
VERSION:2.0
PRODID:-//Date iCal v2.14-dev//NONSGML kigkonsult.se iCalcreator 2.16.6//
METHOD:PUBLISH
X-WR-CALNAME;VALUE=TEXT:Greater Baltimore Cultural Alliance
BEGIN:VTIMEZONE
TZID:America/New_York
BEGIN:STANDARD
DTSTART:20221106T020000
TZOFFSETFROM:-0400
TZOFFSETTO:-0500
TZNAME:EST
END:STANDARD
BEGIN:DAYLIGHT
DTSTART:20220313T020000
TZOFFSETFROM:-0500
TZOFFSETTO:-0400
TZNAME:EDT
END:DAYLIGHT
END:VTIMEZONE
BEGIN:VEVENT
UID:calendar.31050.field_fc_date.0@culturefly.org
DTSTAMP:20260421T014016Z
ATTACH;FMTTYPE=image/jpeg:https://culturefly.org/sites/default/files/u1635/
 Tis%20the%20Season%20Landscape%20%281600x700%20px%29%20copy.jpg
CATEGORIES:,,,,,Performance
CREATED:20211126T210654Z
DESCRIPTION:Celebrate the season with festive songs, classic carols, and 
 holiday  favorites from around the world performed by Thea Tullman Moore,
  Annie Gill,  Elizebeth Barnes, Michael Manganiello, Jennifer Simone Sm
 ith, José Miguel  Sacin, pianist Patricia McKewen Amato, and cellist Is
 mar Gomes.\n\nMasks and proof of vaccination are required. For those unabl
 e to be  vaccinated at this time, proof of a negative PCR test within 72 
 hours of the  performance is required. Please arrive early to present docu
 mentation to our  volunteers. Advance ticket purchase is strongly suggeste
 d. Thank you!
DTSTART;TZID=America/New_York:20211219T153000
DTEND;TZID=America/New_York:20211219T163000
GEO:+39.361616;-76.624006
LAST-MODIFIED:20220819T001256Z
LOCATION:Grace United Methodist Church, 5407 N Charles St, Baltimore, MD
SUMMARY:'Tis the Season: A Holiday Musicale
URL:https://www.baltimoremusicales.org/performances/tis-the-season-a-holida
 y-musicale-1
X-GBCA-NID:31050
END:VEVENT
END:VCALENDAR
