BEGIN:VCALENDAR
VERSION:2.0
PRODID:-//Date iCal v2.14-dev//NONSGML kigkonsult.se iCalcreator 2.16.6//
METHOD:PUBLISH
X-WR-CALNAME;VALUE=TEXT:Greater Baltimore Cultural Alliance
BEGIN:VTIMEZONE
TZID:America/New_York
BEGIN:STANDARD
DTSTART:20211107T020000
TZOFFSETFROM:-0400
TZOFFSETTO:-0500
RDATE:20221106T020000
TZNAME:EST
END:STANDARD
BEGIN:DAYLIGHT
DTSTART:20220313T020000
TZOFFSETFROM:-0500
TZOFFSETTO:-0400
TZNAME:EDT
END:DAYLIGHT
END:VTIMEZONE
BEGIN:VEVENT
UID:calendar.30980.field_fc_date.0@culturefly.org
DTSTAMP:20260425T142430Z
ATTACH;FMTTYPE=image/png:https://culturefly.org/sites/default/files/event-i
 mage/culturefly_1.png
CATEGORIES:,,,
CREATED:20211102T193429Z
DESCRIPTION:On Saturday, November 27th from 1- 6pm, visit the Station Nor
 th Arts District  for Small Business Saturday to keep the love local! Come
  for the unique,  handmade, artful gifts from Made in Baltimore makers,
  sample delicious  holiday specials from local restaurants, and stay for 
 our pop-up performance  series in the newly reopened North Ave Market! RSV
 P on Eventbrite to get a  reminder here.
DTSTART;TZID=America/New_York:20211127T130000
DTEND;TZID=America/New_York:20211127T180000
GEO:+39.31144;-76.616843
LAST-MODIFIED:20211104T150109Z
LOCATION:Station North Ynot Lot , 4 W. North Avenue, Baltimore, MD
SUMMARY:Station North Holiday Markets
URL:https://www.eventbrite.com/e/station-north-holiday-market-tickets-18515
 8452917
X-GBCA-NID:30980
END:VEVENT
BEGIN:VEVENT
UID:calendar.30980.field_fc_date.0@culturefly.org
DTSTAMP:20260425T142430Z
ATTACH;FMTTYPE=image/png:https://culturefly.org/sites/default/files/event-i
 mage/culturefly_1.png
CATEGORIES:,,,
CREATED:20211102T193429Z
DESCRIPTION:On Saturday, November 27th from 1- 6pm, visit the Station Nor
 th Arts District  for Small Business Saturday to keep the love local! Come
  for the unique,  handmade, artful gifts from Made in Baltimore makers,
  sample delicious  holiday specials from local restaurants, and stay for 
 our pop-up performance  series in the newly reopened North Ave Market! RSV
 P on Eventbrite to get a  reminder here.
DTSTART;TZID=America/New_York:20211211T130000
DTEND;TZID=America/New_York:20211211T180000
GEO:+39.31144;-76.616843
LAST-MODIFIED:20211104T150109Z
LOCATION:Station North Ynot Lot , 4 W. North Avenue, Baltimore, MD
SUMMARY:Station North Holiday Markets
URL:https://www.eventbrite.com/e/station-north-holiday-market-tickets-18515
 8452917
X-GBCA-NID:30980
END:VEVENT
END:VCALENDAR
