BEGIN:VCALENDAR
VERSION:2.0
PRODID:-//Date iCal v2.14-dev//NONSGML kigkonsult.se iCalcreator 2.16.6//
METHOD:PUBLISH
X-WR-CALNAME;VALUE=TEXT:Greater Baltimore Cultural Alliance
BEGIN:VTIMEZONE
TZID:America/New_York
BEGIN:STANDARD
DTSTART:20211107T020000
TZOFFSETFROM:-0400
TZOFFSETTO:-0500
RDATE:20221106T020000
TZNAME:EST
END:STANDARD
BEGIN:DAYLIGHT
DTSTART:20220313T020000
TZOFFSETFROM:-0500
TZOFFSETTO:-0400
TZNAME:EDT
END:DAYLIGHT
END:VTIMEZONE
BEGIN:VEVENT
UID:calendar.30968.field_fc_date.0@culturefly.org
DTSTAMP:20260425T103713Z
ATTACH;FMTTYPE=image/jpeg:https://culturefly.org/sites/default/files/event-
 image/Chadwick%20Wedding.jpg
CATEGORIES:,,Exhibition,,
CREATED:20211101T105944Z
DESCRIPTION:The Liriodendron Mansion is thrilled to be hosting a special ex
 hibition -  Chadwick the Crab & All of His Friends – presenting a rare opp
 ortunity not  only to view the stunning original illustrations from the be
 loved  children’s book series, but to meet the illustrator and author, a
 nd  purchase the works.
DTSTART;TZID=America/New_York:20211114T110000
DTEND;TZID=America/New_York:20211114T150000
LAST-MODIFIED:20211101T145136Z
LOCATION:The Liriodendron Mansion, 502 West Gordon St., Bel Air, MD
SUMMARY:Exhibit: Chadwick the Crab & All of His Friends
URL:https://bit.ly/ChadwickExhibit
X-GBCA-NID:30968
END:VEVENT
BEGIN:VEVENT
UID:calendar.30968.field_fc_date.0@culturefly.org
DTSTAMP:20260425T103713Z
ATTACH;FMTTYPE=image/jpeg:https://culturefly.org/sites/default/files/event-
 image/Chadwick%20Wedding.jpg
CATEGORIES:,,Exhibition,,
CREATED:20211101T105944Z
DESCRIPTION:The Liriodendron Mansion is thrilled to be hosting a special ex
 hibition -  Chadwick the Crab & All of His Friends – presenting a rare opp
 ortunity not  only to view the stunning original illustrations from the be
 loved  children’s book series, but to meet the illustrator and author, a
 nd  purchase the works.
DTSTART;TZID=America/New_York:20211117T130000
DTEND;TZID=America/New_York:20211117T180000
LAST-MODIFIED:20211101T145136Z
LOCATION:The Liriodendron Mansion, 502 West Gordon St., Bel Air, MD
SUMMARY:Exhibit: Chadwick the Crab & All of His Friends
URL:https://bit.ly/ChadwickExhibit
X-GBCA-NID:30968
END:VEVENT
BEGIN:VEVENT
UID:calendar.30968.field_fc_date.0@culturefly.org
DTSTAMP:20260425T103713Z
ATTACH;FMTTYPE=image/jpeg:https://culturefly.org/sites/default/files/event-
 image/Chadwick%20Wedding.jpg
CATEGORIES:,,Exhibition,,
CREATED:20211101T105944Z
DESCRIPTION:The Liriodendron Mansion is thrilled to be hosting a special ex
 hibition -  Chadwick the Crab & All of His Friends – presenting a rare opp
 ortunity not  only to view the stunning original illustrations from the be
 loved  children’s book series, but to meet the illustrator and author, a
 nd  purchase the works.
DTSTART;TZID=America/New_York:20211124T130000
DTEND;TZID=America/New_York:20211124T130000
LAST-MODIFIED:20211101T145136Z
LOCATION:The Liriodendron Mansion, 502 West Gordon St., Bel Air, MD
SUMMARY:Exhibit: Chadwick the Crab & All of His Friends
URL:https://bit.ly/ChadwickExhibit
X-GBCA-NID:30968
END:VEVENT
BEGIN:VEVENT
UID:calendar.30968.field_fc_date.0@culturefly.org
DTSTAMP:20260425T103713Z
ATTACH;FMTTYPE=image/jpeg:https://culturefly.org/sites/default/files/event-
 image/Chadwick%20Wedding.jpg
CATEGORIES:,,Exhibition,,
CREATED:20211101T105944Z
DESCRIPTION:The Liriodendron Mansion is thrilled to be hosting a special ex
 hibition -  Chadwick the Crab & All of His Friends – presenting a rare opp
 ortunity not  only to view the stunning original illustrations from the be
 loved  children’s book series, but to meet the illustrator and author, a
 nd  purchase the works.
DTSTART;TZID=America/New_York:20211201T130000
DTEND;TZID=America/New_York:20211201T180000
LAST-MODIFIED:20211101T145136Z
LOCATION:The Liriodendron Mansion, 502 West Gordon St., Bel Air, MD
SUMMARY:Exhibit: Chadwick the Crab & All of His Friends
URL:https://bit.ly/ChadwickExhibit
X-GBCA-NID:30968
END:VEVENT
BEGIN:VEVENT
UID:calendar.30968.field_fc_date.0@culturefly.org
DTSTAMP:20260425T103713Z
ATTACH;FMTTYPE=image/jpeg:https://culturefly.org/sites/default/files/event-
 image/Chadwick%20Wedding.jpg
CATEGORIES:,,Exhibition,,
CREATED:20211101T105944Z
DESCRIPTION:The Liriodendron Mansion is thrilled to be hosting a special ex
 hibition -  Chadwick the Crab & All of His Friends – presenting a rare opp
 ortunity not  only to view the stunning original illustrations from the be
 loved  children’s book series, but to meet the illustrator and author, a
 nd  purchase the works.
DTSTART;TZID=America/New_York:20211208T130000
DTEND;TZID=America/New_York:20211208T180000
LAST-MODIFIED:20211101T145136Z
LOCATION:The Liriodendron Mansion, 502 West Gordon St., Bel Air, MD
SUMMARY:Exhibit: Chadwick the Crab & All of His Friends
URL:https://bit.ly/ChadwickExhibit
X-GBCA-NID:30968
END:VEVENT
BEGIN:VEVENT
UID:calendar.30968.field_fc_date.0@culturefly.org
DTSTAMP:20260425T103713Z
ATTACH;FMTTYPE=image/jpeg:https://culturefly.org/sites/default/files/event-
 image/Chadwick%20Wedding.jpg
CATEGORIES:,,Exhibition,,
CREATED:20211101T105944Z
DESCRIPTION:The Liriodendron Mansion is thrilled to be hosting a special ex
 hibition -  Chadwick the Crab & All of His Friends – presenting a rare opp
 ortunity not  only to view the stunning original illustrations from the be
 loved  children’s book series, but to meet the illustrator and author, a
 nd  purchase the works.
DTSTART;TZID=America/New_York:20211212T110000
DTEND;TZID=America/New_York:20211212T150000
LAST-MODIFIED:20211101T145136Z
LOCATION:The Liriodendron Mansion, 502 West Gordon St., Bel Air, MD
SUMMARY:Exhibit: Chadwick the Crab & All of His Friends
URL:https://bit.ly/ChadwickExhibit
X-GBCA-NID:30968
END:VEVENT
BEGIN:VEVENT
UID:calendar.30968.field_fc_date.0@culturefly.org
DTSTAMP:20260425T103713Z
ATTACH;FMTTYPE=image/jpeg:https://culturefly.org/sites/default/files/event-
 image/Chadwick%20Wedding.jpg
CATEGORIES:,,Exhibition,,
CREATED:20211101T105944Z
DESCRIPTION:The Liriodendron Mansion is thrilled to be hosting a special ex
 hibition -  Chadwick the Crab & All of His Friends – presenting a rare opp
 ortunity not  only to view the stunning original illustrations from the be
 loved  children’s book series, but to meet the illustrator and author, a
 nd  purchase the works.
DTSTART;TZID=America/New_York:20211215T130000
DTEND;TZID=America/New_York:20211215T180000
LAST-MODIFIED:20211101T145136Z
LOCATION:The Liriodendron Mansion, 502 West Gordon St., Bel Air, MD
SUMMARY:Exhibit: Chadwick the Crab & All of His Friends
URL:https://bit.ly/ChadwickExhibit
X-GBCA-NID:30968
END:VEVENT
BEGIN:VEVENT
UID:calendar.30968.field_fc_date.0@culturefly.org
DTSTAMP:20260425T103713Z
ATTACH;FMTTYPE=image/jpeg:https://culturefly.org/sites/default/files/event-
 image/Chadwick%20Wedding.jpg
CATEGORIES:,,Exhibition,,
CREATED:20211101T105944Z
DESCRIPTION:The Liriodendron Mansion is thrilled to be hosting a special ex
 hibition -  Chadwick the Crab & All of His Friends – presenting a rare opp
 ortunity not  only to view the stunning original illustrations from the be
 loved  children’s book series, but to meet the illustrator and author, a
 nd  purchase the works.
DTSTART;TZID=America/New_York:20211222T130000
DTEND;TZID=America/New_York:20211222T180000
LAST-MODIFIED:20211101T145136Z
LOCATION:The Liriodendron Mansion, 502 West Gordon St., Bel Air, MD
SUMMARY:Exhibit: Chadwick the Crab & All of His Friends
URL:https://bit.ly/ChadwickExhibit
X-GBCA-NID:30968
END:VEVENT
BEGIN:VEVENT
UID:calendar.30968.field_fc_date.0@culturefly.org
DTSTAMP:20260425T103713Z
ATTACH;FMTTYPE=image/jpeg:https://culturefly.org/sites/default/files/event-
 image/Chadwick%20Wedding.jpg
CATEGORIES:,,Exhibition,,
CREATED:20211101T105944Z
DESCRIPTION:The Liriodendron Mansion is thrilled to be hosting a special ex
 hibition -  Chadwick the Crab & All of His Friends – presenting a rare opp
 ortunity not  only to view the stunning original illustrations from the be
 loved  children’s book series, but to meet the illustrator and author, a
 nd  purchase the works.
DTSTART;TZID=America/New_York:20211229T130000
DTEND;TZID=America/New_York:20211229T180000
LAST-MODIFIED:20211101T145136Z
LOCATION:The Liriodendron Mansion, 502 West Gordon St., Bel Air, MD
SUMMARY:Exhibit: Chadwick the Crab & All of His Friends
URL:https://bit.ly/ChadwickExhibit
X-GBCA-NID:30968
END:VEVENT
END:VCALENDAR
