BEGIN:VCALENDAR
VERSION:2.0
PRODID:-//Date iCal v2.14-dev//NONSGML kigkonsult.se iCalcreator 2.16.6//
METHOD:PUBLISH
X-WR-CALNAME;VALUE=TEXT:Greater Baltimore Cultural Alliance
BEGIN:VTIMEZONE
TZID:America/New_York
BEGIN:STANDARD
DTSTART:20211107T020000
TZOFFSETFROM:-0400
TZOFFSETTO:-0500
TZNAME:EST
END:STANDARD
BEGIN:DAYLIGHT
DTSTART:20220313T020000
TZOFFSETFROM:-0500
TZOFFSETTO:-0400
TZNAME:EDT
END:DAYLIGHT
END:VTIMEZONE
BEGIN:VEVENT
UID:calendar.30919.field_fc_date.0@culturefly.org
DTSTAMP:20260425T234043Z
ATTACH;FMTTYPE=image/jpeg:https://culturefly.org/sites/default/files/u497/L
 ivewire%2011%20logo%20fb.jpg
CATEGORIES:,,,,Performance
CREATED:20211019T014138Z
DESCRIPTION:UMBC's Livewire 11: Rewired new music festival, presented by t
 he Department  of Music, features a special event at the Joseph Beuys Scu
 lpture Park.
DTSTART;TZID=America/New_York:20211023T153000
DTEND;TZID=America/New_York:20211023T170000
LAST-MODIFIED:20231130T001256Z
LOCATION:UMBC Joseph Beuys Sculpture Park, 1000 Hilltop Circle, Baltimore
 , MD
SUMMARY:Livewire 11: Arboretum and the 20th Anniversary Celebration of the 
 Joseph  Beuys Sculpture Park
URL:https://artsandculture.umbc.edu/event/livewire-11-arboretum/
X-GBCA-NID:30919
END:VEVENT
END:VCALENDAR
