BEGIN:VCALENDAR
VERSION:2.0
PRODID:-//Date iCal v2.14-dev//NONSGML kigkonsult.se iCalcreator 2.16.6//
METHOD:PUBLISH
X-WR-CALNAME;VALUE=TEXT:Greater Baltimore Cultural Alliance
BEGIN:VTIMEZONE
TZID:America/New_York
BEGIN:STANDARD
DTSTART:20211107T020000
TZOFFSETFROM:-0400
TZOFFSETTO:-0500
TZNAME:EST
END:STANDARD
BEGIN:DAYLIGHT
DTSTART:20220313T020000
TZOFFSETFROM:-0500
TZOFFSETTO:-0400
TZNAME:EDT
END:DAYLIGHT
END:VTIMEZONE
BEGIN:VEVENT
UID:calendar.30893.field_fc_date.0@culturefly.org
DTSTAMP:20260421T230420Z
ATTACH;FMTTYPE=image/jpeg:https://culturefly.org/sites/default/files/https_
 __cdn.evbuc.com_images_160243319_473847004931_1_original.jpeg
CATEGORIES:,,,
CREATED:20211012T182257Z
DESCRIPTION:*Join Liz Miller for an energizing walk to hear the stories beh
 ind the murals  in Station North with almost 60 featured artworks!*\n\nAbo
 ut this event\n\nSpanning the neighborhoods of Charles North, Greenmount 
 West, and Barclay,  Station North is a diverse collection of artist live
 -work spaces, galleries,  rowhomes, businesses, and murals.
DTSTART;TZID=America/New_York:20211016T090000
DTEND;TZID=America/New_York:20211016T120000
GEO:+39.308893;-76.616123
LAST-MODIFIED:20211012T182257Z
LOCATION:Station North Arts & Entertainment District, 1701 North Charles,
  Baltimore, MD
SUMMARY:Station North Arts District Mural Tour
URL:https://www.eventbrite.com/e/station-north-arts-district-mural-tour-by-
 liz-miller-tickets-184249313657?utm_source=Station+North+Arts+%26+Entertai
 nment%2C+Inc.+List&utm_campaign=6535b9fd4f-EMAIL_CAMPAIGN_2020_10_02_04_46
 _COPY_05&utm_medium=email&utm_term=0_efd382137f-6535b9fd4f-1361367654
X-GBCA-NID:30893
END:VEVENT
END:VCALENDAR
