BEGIN:VCALENDAR
VERSION:2.0
PRODID:-//Date iCal v2.14-dev//NONSGML kigkonsult.se iCalcreator 2.16.6//
METHOD:PUBLISH
X-WR-CALNAME;VALUE=TEXT:Greater Baltimore Cultural Alliance
BEGIN:VTIMEZONE
TZID:America/New_York
BEGIN:STANDARD
DTSTART:20211107T020000
TZOFFSETFROM:-0400
TZOFFSETTO:-0500
TZNAME:EST
END:STANDARD
BEGIN:DAYLIGHT
DTSTART:20220313T020000
TZOFFSETFROM:-0500
TZOFFSETTO:-0400
TZNAME:EDT
END:DAYLIGHT
END:VTIMEZONE
BEGIN:VEVENT
UID:calendar.30872.field_fc_date.0@culturefly.org
DTSTAMP:20260425T103653Z
ATTACH;FMTTYPE=image/jpeg:https://culturefly.org/sites/default/files/event-
 image/Steve%20Hackman_RES.jpg
CATEGORIES:,Performance
CREATED:20211005T204434Z
DESCRIPTION:/Skull and Bones /is a symphonic showcase meets Halloween rave.
  Classic  orchestra showpieces like /The Sorcerer’s Apprentice/, “Mars” f
 rom /The  Planets/, /Danse macabre, /and the finale of Shostakovich’s 5t
 h Symphony  are played in their original form then remixed and combined wi
 th electronic  beats; layered with vocal stems of Post Malone, Muse, Dr
 ake, and Kanye West;  and woven into dancehall floor-killers.
DTSTART;TZID=America/New_York:20211030T200000
DTEND;TZID=America/New_York:20211030T220000
LAST-MODIFIED:20211006T171955Z
LOCATION:Joseph Meyerhoff Symphony Hall, 1212 Cathedral Street, Baltimore
 , MD
SUMMARY:BSO Fusion: Skull and Bones
URL:https://my.bsomusic.org/overview/16933
X-GBCA-NID:30872
END:VEVENT
END:VCALENDAR
