BEGIN:VCALENDAR
VERSION:2.0
PRODID:-//Date iCal v2.14-dev//NONSGML kigkonsult.se iCalcreator 2.16.6//
METHOD:PUBLISH
X-WR-CALNAME;VALUE=TEXT:Greater Baltimore Cultural Alliance
BEGIN:VTIMEZONE
TZID:America/New_York
BEGIN:STANDARD
DTSTART:20211107T020000
TZOFFSETFROM:-0400
TZOFFSETTO:-0500
TZNAME:EST
END:STANDARD
BEGIN:DAYLIGHT
DTSTART:20220313T020000
TZOFFSETFROM:-0500
TZOFFSETTO:-0400
TZNAME:EDT
END:DAYLIGHT
END:VTIMEZONE
BEGIN:VEVENT
UID:calendar.30846.field_fc_date.0@culturefly.org
DTSTAMP:20260424T141616Z
ATTACH;FMTTYPE=image/jpeg:https://culturefly.org/sites/default/files/event-
 image/Graphic%20-%20Robbie%20Munoz%20November%202021.jpg
CATEGORIES:
CREATED:20210930T150453Z
DESCRIPTION:Join us for the opening reception of Robinson Munoz: /Landscape
 s of the  Spirit./ Chilean artist Robinson Munoz believes that we discover
  by seeing as  a child sees, unhindered by training or indoctrination. Hi
 s rich and colorful  abstract paintings are the result of his efforts to d
 iscover what one can see  when doing so without preconceived intermediarie
 s.\n\nThe show runs from November 4 – 28. The gallery is open daily by  ap
 pointment. Email alchemyofevents@gmail.com [1] or call / text  805-705-230
 5.\n\n\n[1] mailto:alchemyofevents@gmail.com
DTSTART;TZID=America/New_York:20211104T183000
DTEND;TZID=America/New_York:20211104T213000
GEO:+39.285328;-76.594115
LAST-MODIFIED:20210930T161503Z
LOCATION: The Alchemy of Art , 1637 Eastern Ave, Baltimore, MD
SUMMARY:Robinson Munoz: Landscapes of the Spirit (Opening Reception)
URL:http://alchemy-of-art.squarespace.com/
X-GBCA-NID:30846
END:VEVENT
END:VCALENDAR
