BEGIN:VCALENDAR
VERSION:2.0
PRODID:-//Date iCal v2.14-dev//NONSGML kigkonsult.se iCalcreator 2.16.6//
METHOD:PUBLISH
X-WR-CALNAME;VALUE=TEXT:Greater Baltimore Cultural Alliance
BEGIN:VTIMEZONE
TZID:America/New_York
BEGIN:STANDARD
DTSTART:20221106T020000
TZOFFSETFROM:-0400
TZOFFSETTO:-0500
TZNAME:EST
END:STANDARD
BEGIN:DAYLIGHT
DTSTART:20220313T020000
TZOFFSETFROM:-0500
TZOFFSETTO:-0400
TZNAME:EDT
END:DAYLIGHT
END:VTIMEZONE
BEGIN:VEVENT
UID:calendar.30831.field_fc_date.0@culturefly.org
DTSTAMP:20260420T151905Z
ATTACH;FMTTYPE=image/png:https://culturefly.org/sites/default/files/u888/Ju
 nction%20GBCA.png
CATEGORIES:,Performance
CREATED:20210927T210422Z
DESCRIPTION:“Watching the trio perform, one really couldn’t tell who was h
 appier to  be there—the rapt audience or the musicians, who threw themsel
 ves into  repertoire they clearly love.” – /Boston Glob/e\n\nWelcome back 
 to in-person concerts with Shriver Hall Concert Series!\n\nFor information
  on live-streaming options for this performance and for  Covid-19 Safety I
 nformation visit shriverconcerts.org/health.\n\nCHRISTOPHER TRAPANI: Passi
 ng Through, Staying Put RAVEL: Piano Trio BRAHMS: Piano Trio in B major,
  Op. 8
DTSTART;TZID=America/New_York:20220213T173000
DTEND;TZID=America/New_York:20220213T193000
GEO:+39.327443;-76.620777
LAST-MODIFIED:20230113T001256Z
LOCATION:Shriver Hall Auditorium, Shriver Hall, 3400 North Charles Street
 , Baltimore, MD
SUMMARY:Junction Trio at Shriver Hall Concert Series
URL:https://www.shriverconcerts.org/junction
X-GBCA-NID:30831
END:VEVENT
END:VCALENDAR
