BEGIN:VCALENDAR
VERSION:2.0
PRODID:-//Date iCal v2.14-dev//NONSGML kigkonsult.se iCalcreator 2.16.6//
METHOD:PUBLISH
X-WR-CALNAME;VALUE=TEXT:Greater Baltimore Cultural Alliance
BEGIN:VTIMEZONE
TZID:America/New_York
BEGIN:STANDARD
DTSTART:20211107T020000
TZOFFSETFROM:-0400
TZOFFSETTO:-0500
TZNAME:EST
END:STANDARD
BEGIN:DAYLIGHT
DTSTART:20220313T020000
TZOFFSETFROM:-0500
TZOFFSETTO:-0400
TZNAME:EDT
END:DAYLIGHT
END:VTIMEZONE
BEGIN:VEVENT
UID:calendar.30767.field_fc_date.0@culturefly.org
DTSTAMP:20260425T152654Z
ATTACH;FMTTYPE=image/jpeg:https://culturefly.org/sites/default/files/event-
 image/Oct%202018%20Baroque.JPG
CATEGORIES:
CREATED:20210912T192547Z
DESCRIPTION:Columbia Pro Cantare opens its 45th season with a performance o
 f Vivaldi's  Gloria. Conducting the chorus and orchestra will be assistant
  music director,  Laura Lee Fischer. Location and time for this concert a
 re to be announced at  a later date.
DTSTART;TZID=America/New_York:20211030T193000
DTEND;TZID=America/New_York:20211030T210000
LAST-MODIFIED:20210913T142743Z
LOCATION:Virtual Event!, This event takes place online., Participate from
  Anywhere you are!, MD
SUMMARY:Columbia Pro Cantare Goes Baroque with the Vivaldi Gloria
URL:https://www.procantare.org
X-GBCA-NID:30767
END:VEVENT
END:VCALENDAR
