BEGIN:VCALENDAR
VERSION:2.0
PRODID:-//Date iCal v2.14-dev//NONSGML kigkonsult.se iCalcreator 2.16.6//
METHOD:PUBLISH
X-WR-CALNAME;VALUE=TEXT:Greater Baltimore Cultural Alliance
BEGIN:VTIMEZONE
TZID:America/New_York
BEGIN:STANDARD
DTSTART:20211107T020000
TZOFFSETFROM:-0400
TZOFFSETTO:-0500
RDATE:20221106T020000
TZNAME:EST
END:STANDARD
BEGIN:DAYLIGHT
DTSTART:20220313T020000
TZOFFSETFROM:-0500
TZOFFSETTO:-0400
TZNAME:EDT
END:DAYLIGHT
END:VTIMEZONE
BEGIN:VEVENT
UID:calendar.30691.field_fc_date.0@culturefly.org
DTSTAMP:20260425T155549Z
ATTACH;FMTTYPE=image/jpeg:https://culturefly.org/sites/default/files/event-
 image/Christmas%20Village%20in%20Baltimore_2021_Market%20at%20Night.JPEG
CATEGORIES:,,,
CREATED:20210826T220903Z
DESCRIPTION:Returning for its 8th season, Christmas Village in Baltimore w
 ill once again  transform West Shore Park at Baltimore’s Inner Harbor into
  an authentic  German Christmas market! Starting from *Thanksgiving and ru
 nning until  Christmas Eve* (November 25th – December 24th, 2021), a lar
 ge variety of  weekday and weekend events designed to please young and old
  await to be  explored! Also, make sure that you don’t miss our Preview W
 eekend on  November 20th and 21st.
DTSTART;TZID=America/New_York:20211120T110000
DTEND;TZID=America/New_York:20211224T190000
EXDATE;TZID=America/New_York:20211121T110000
EXDATE;TZID=America/New_York:20211122T110000
EXDATE;TZID=America/New_York:20211123T110000
EXDATE;TZID=America/New_York:20211129T110000
EXDATE;TZID=America/New_York:20211130T110000
EXDATE;TZID=America/New_York:20211206T110000
EXDATE;TZID=America/New_York:20211207T110000
EXDATE;TZID=America/New_York:20211213T110000
EXDATE;TZID=America/New_York:20211214T110000
LAST-MODIFIED:20210831T161151Z
LOCATION:Baltimore Inner Harbor, 401 Light St., Baltimore, MD
RRULE:FREQ=WEEKLY;UNTIL=20211225T095959Z;INTERVAL=1;BYDAY=SU,MO,TU,WE,TH,FR
 ,SA;WKST=SU
SUMMARY:Christmas Village in Baltimore
URL:www.baltimore-christmas.com
X-GBCA-NID:30691
END:VEVENT
END:VCALENDAR
