BEGIN:VCALENDAR
VERSION:2.0
PRODID:-//Date iCal v2.14-dev//NONSGML kigkonsult.se iCalcreator 2.16.6//
METHOD:PUBLISH
X-WR-CALNAME;VALUE=TEXT:Greater Baltimore Cultural Alliance
BEGIN:VTIMEZONE
TZID:America/New_York
BEGIN:STANDARD
DTSTART:20211107T020000
TZOFFSETFROM:-0400
TZOFFSETTO:-0500
TZNAME:EST
END:STANDARD
BEGIN:DAYLIGHT
DTSTART:20220313T020000
TZOFFSETFROM:-0500
TZOFFSETTO:-0400
TZNAME:EDT
END:DAYLIGHT
END:VTIMEZONE
BEGIN:VEVENT
UID:calendar.30610.field_fc_date.0@culturefly.org
DTSTAMP:20260420T093131Z
ATTACH;FMTTYPE=image/jpeg:https://culturefly.org/sites/default/files/event-
 image/Crickets%20Ad%20September%202021%20lg.jpg
CATEGORIES:Lectures/ Workshops,,,Lectures/ Workshops
CREATED:20210812T194240Z
DESCRIPTION:Crickets is back in person this fall! Sign up today at www.ccms
 ings.org [1].  Crickets Music and Play Program, for children ages 4 to 6\
 , engages the body  and the mind in joyful music-making. Highly-trained tr
 ained teachers gently  encourage very young children to explore the voice 
 as their first true  instrument through play, games, and movement. We of
 fer small classes limited  to 8 children each, and this fall it will run 
 for 10 weeks with Thanksgiving  week off.\n\n\n[1] http://www.ccmsings.org
DTSTART;VALUE=DATE:20210813
DTEND;VALUE=DATE:20210926
GEO:+39.398181;-76.597467
LAST-MODIFIED:20210816T134600Z
LOCATION:Children's Chorus of Maryland & School of Music, Terrace Level, 
 320 East Towsontown Blvd., Towson, MD
SUMMARY:Join Crickets Music & Play Classes for 4 to 6 Year Olds This Fall!
URL:http://www.ccmsings.org
X-GBCA-NID:30610
END:VEVENT
END:VCALENDAR
